BEGIN:VCALENDAR
VERSION:2.0
PRODID:-//ChamberMaster//Event Calendar 2.0//EN
METHOD:PUBLISH
X-PUBLISHED-TTL:P3D
REFRESH-INTERVAL:P3D
CALSCALE:GREGORIAN
BEGIN:VEVENT
DTSTART:20130407T200000Z
DTEND:20130407T220000Z
X-MICROSOFT-CDO-ALLDAYEVENT:FALSE
SUMMARY:Relay For Life Kick Off Party
DESCRIPTION:Join us as we kick off our 2013 Relay For Life season!  Stop by anytime from 2-4pm to learn more about joining the fight against cancer\, meet the planning committee and enjoy some appetizers.
X-ALT-DESC;FMTTYPE=text/html:Join us as we kick off our 2013 Relay For Life season!&nbsp\; Stop by anytime from 2-4pm to learn more about joining the fight against cancer\, meet the planning committee and enjoy some appetizers.&nbsp\; 
LOCATION:Brooks Place Tavern 27175 Main St #100 Conifer\, CO 80433
UID:e.692.1434
SEQUENCE:3
DTSTAMP:20260424T072206Z
URL:https://business.goconifer.com/events/details/relay-for-life-kick-off-party-04-07-2013-1434
END:VEVENT

END:VCALENDAR
