BEGIN:VCALENDAR
VERSION:2.0
PRODID:-//ChamberMaster//Event Calendar 2.0//EN
METHOD:PUBLISH
X-PUBLISHED-TTL:P3D
REFRESH-INTERVAL:P3D
CALSCALE:GREGORIAN
BEGIN:VEVENT
DTSTART:20160305T160000Z
DTEND:20160831T230000Z
X-MICROSOFT-CDO-ALLDAYEVENT:FALSE
SUMMARY:Registration for EPRD Summer Camps
DESCRIPTION:Evergreen Park & Recreation District offers a large variety of summer camps for children pre-school through high school\, at a number of locations! \n\n\n\nCamps include Preschool Adventure\, Summer Adventure\, Special Needs Adventure\, Outdoor Adventure\, Leader in Training\, Sports Camps and Specialty Camps.\n\n\n\nLocations include Buchanan Park and Wulf Recreation Centers\, Buchanan Ponds\, Evergreen Lake House\, Beaver Ranch Community Center in Conifer\, and off-site.\n\n\n\nCamp fees range from $65-$200 per week (slightly higher out of District but still a great bargain).\n\n\n\nLearn more and register your child online here or pick up a camp guide at one of the Rec Centers. You can also register in-person (this is mandatory for Pre-School Camps) at the Camp Open House on Saturday\, March 5 from 9 AM-12 PM at Wulf Rec Center.
X-ALT-DESC;FMTTYPE=text/html:Evergreen Park &amp\; Recreation District offers a large variety of summer camps for children pre-school through high school\, at a number of locations!&nbsp\;<br />\n<br />\nCamps include&nbsp\;Preschool Adventure\, Summer Adventure\, Special Needs Adventure\, Outdoor Adventure\, Leader in Training\, Sports Camps and Specialty Camps.<br />\n<br />\nLocations include Buchanan Park and Wulf Recreation Centers\, Buchanan Ponds\, Evergreen Lake House\,&nbsp\;Beaver Ranch Community Center in Conifer\, and off-site.<br />\n<br />\nCamp fees range from $65-$200 per week (slightly higher out of District but still a great bargain).<br />\n<br />\nLearn more and register your child&nbsp\;<a href="http://bit.ly/EPRDSummerCamp2016" style="line-height: 20.7999992370605px\;">online here</a>&nbsp\;or pick up a camp guide at one of the Rec Centers. You can also register in-person (this is mandatory for Pre-School Camps) at the Camp Open House on Saturday\, March 5 from 9 AM-12 PM at Wulf Rec Center.
LOCATION:Throughout mountain area
UID:e.692.10914
SEQUENCE:3
DTSTAMP:20260421T180612Z
URL:https://business.goconifer.com/events/details/registration-for-eprd-summer-camps-03-05-2016-10914
END:VEVENT

END:VCALENDAR
