BEGIN:VCALENDAR
VERSION:2.0
PRODID:-//ChamberMaster//Event Calendar 2.0//EN
METHOD:PUBLISH
X-PUBLISHED-TTL:P3D
REFRESH-INTERVAL:P3D
CALSCALE:GREGORIAN
BEGIN:VEVENT
DTSTART:20160220T023000Z
DTEND:20160220T040000Z
X-MICROSOFT-CDO-ALLDAYEVENT:FALSE
SUMMARY:Reggae Music Shabbat
DESCRIPTION:Back by popular demand\, CBE will once again celebrate Shabbat with the rhythms of reggae. Led by Rabbi Jamie with many musicians and singers\, this is one evening\, not to be missed!
X-ALT-DESC;FMTTYPE=text/html:<span style="color:rgb(20\, 24\, 35)\; font-family:helvetica\,arial\,sans-serif\; font-size:14px">Back by popular demand\, CBE will once again celebrate Shabbat with the rhythms of reggae. Led by Rabbi Jamie with many musicians and singers\, this is one evening\, not to be missed!</span>
LOCATION:Congregation Beth Evergreen
UID:e.692.16424
SEQUENCE:3
DTSTAMP:20260422T030640Z
URL:https://business.goconifer.com/events/details/reggae-music-shabbat-02-19-2016-16424
END:VEVENT

END:VCALENDAR
