BEGIN:VCALENDAR
VERSION:2.0
PRODID:-//ChamberMaster//Event Calendar 2.0//EN
METHOD:PUBLISH
X-PUBLISHED-TTL:P3D
REFRESH-INTERVAL:P3D
CALSCALE:GREGORIAN
BEGIN:VEVENT
DTSTART:20260424T160000Z
DTEND:20260424T210000Z
X-MICROSOFT-CDO-ALLDAYEVENT:FALSE
SUMMARY:Red Cross Blood Drive @ St Laurence Episcopal Church
DESCRIPTION:Join St. Laurence Episcopal Church and Risen Lord Lutheran Church as they jointly host the American Red Cross for a blood drive\, following the success of our first one in October! Homemade baked goods will be available for donors as well. Sign up to donate here.
X-ALT-DESC;FMTTYPE=text/html:Join St. Laurence Episcopal Church and Risen Lord Lutheran Church as they jointly host the American Red Cross for a blood drive\, following the success of our first one in October! Homemade baked goods will be available for donors as well.&nbsp\;<a href="https://www.redcrossblood.org/give.html/find-drive">Sign up to donate here.</a>
LOCATION:St. Laurence Episcopal Church 26812 Barkley Road Conifer\, CO 80433
UID:e.692.48589
SEQUENCE:3
DTSTAMP:20260423T014129Z
URL:https://business.goconifer.com/events/details/red-cross-blood-drive-st-laurence-episcopal-church-48589
END:VEVENT

END:VCALENDAR
