BEGIN:VCALENDAR
VERSION:2.0
PRODID:-//ChamberMaster//Event Calendar 2.0//EN
METHOD:PUBLISH
X-PUBLISHED-TTL:P3D
REFRESH-INTERVAL:P3D
CALSCALE:GREGORIAN
BEGIN:VEVENT
DTSTART:20100824T230000Z
DTEND:20100825T010000Z
X-MICROSOFT-CDO-ALLDAYEVENT:FALSE
SUMMARY:Razzle Dazzle Jewelry Exchange Presented by Evergreen Area Chamber of Commerce
DESCRIPTION:Do you have jewelry that you no longer wear?  Are you looking to find some new items?  Join us for a fun evening including a "jewelry exchange"\, networking\, and hors d'oeuvres.
X-ALT-DESC;FMTTYPE=text/html:Do you have jewelry that you no longer wear?  Are you looking to find some new items?  Join us for a fun evening including a "jewelry exchange"\, networking\, and hors d'oeuvres. 
LOCATION:Highland Haven
UID:e.692.581
SEQUENCE:3
DTSTAMP:20260424T155309Z
URL:https://business.goconifer.com/events/details/razzle-dazzle-jewelry-exchange-presented-by-evergreen-area-chamber-of-commerce-08-24-2010-581
END:VEVENT

END:VCALENDAR
