BEGIN:VCALENDAR
VERSION:2.0
PRODID:-//ChamberMaster//Event Calendar 2.0//EN
METHOD:PUBLISH
X-PUBLISHED-TTL:P3D
REFRESH-INTERVAL:P3D
CALSCALE:GREGORIAN
BEGIN:VEVENT
DTSTART:20140214T070000Z
DTEND:20140217T013000Z
X-MICROSOFT-CDO-ALLDAYEVENT:FALSE
SUMMARY:Ragtime Bash Again
DESCRIPTION:The best of Ragtime Jazz\, Boogie\, Blues and more\n\n\n\nThe Evergreen Elks Lodge presents our "10th Reunion" of the Ragtime Bash weekend event.  Five of  "the best of the best" world class ragtime entertainers from around the country will take the stage in February for a three-day festival with four outstanding concerts.  Early bird ticket prices until December 31 range from $10 to $90 and are available online\, by phone\, or mail in.\n\n\n\nMusicians:\n\n\n\n  Jeff and Anne Barnhart from Mystic\, Conn.\n\n  Bob Milne from Lapeer\, Michigan\n\n  Dick Kroeckel from Arvada\, Colorado\n\n  Brian Holland from Dallas\, Texas\n\n  Adam Swanson from Shenandoah\, Iowa\n\n\n\nRagtime Sessions:\n\n\n\nFriday VIP Valentine's Day Eve Dinner Concert\n\n5:30 - 10 pm\n\nSaturday Afternoon Saloon Tunes\n\n2 - 5 pm\n\nSaturday Evening Concert\n\n7 -  10 pm\n\nSunday Matinee Concert\n\n1 - 4 pm
X-ALT-DESC;FMTTYPE=text/html:<span style="font-size: 16px\;"><span style="font-family: times new roman\;"><strong>The best of Ragtime Jazz\, Boogie\, Blues and more</strong><br />\n<br />\nThe Evergreen Elks Lodge presents our &quot\;10th Reunion&quot\; of the Ragtime Bash weekend event.&nbsp\; Five of&nbsp\; &quot\;the best of the best&quot\; world class ragtime entertainers from around the country will take the stage in February for a three-day festival with four outstanding concerts.&nbsp\; Early bird ticket prices until December 31 range from $10 to $90 and are available online\, by phone\, or mail in.<br />\n<br />\n<strong>Musicians:<br />\n<br />\n<em>&bull\; Jeff and Anne Barnhart</em></strong> from Mystic\, Conn.<br />\n<strong>&bull\; Bob Milne</strong> from Lapeer\, Michigan<br />\n<em><strong>&bull\; Dick Kroeckel</strong></em> from Arvada\, Colorado<br />\n<em><strong>&bull\; Brian Holland</strong></em> from Dallas\, Texas<br />\n<em><strong>&bull\; Adam Swanson</strong></em> from Shenandoah\, Iowa<br />\n<br />\n<strong>Ragtime Sessions:</strong><br />\n<br />\nFriday VIP Valentine&rsquo\;s Day Eve Dinner Concert<br />\n5:30 - 10 pm<br />\nSaturday Afternoon Saloon Tunes<br />\n2 - 5 pm<br />\nSaturday Evening Concert<br />\n7 -&nbsp\; 10 pm<br />\nSunday Matinee Concert<br />\n1 - 4 pm</span></span>
LOCATION:Evergreen Elks Lodge 27972 Iris Dr. Evergreen\, CO 80439
UID:e.692.1606
SEQUENCE:3
DTSTAMP:20260423T171954Z
URL:https://business.goconifer.com/events/details/ragtime-bash-again-02-14-2014-1606
END:VEVENT

END:VCALENDAR
