BEGIN:VCALENDAR
VERSION:2.0
PRODID:-//ChamberMaster//Event Calendar 2.0//EN
METHOD:PUBLISH
X-PUBLISHED-TTL:P3D
REFRESH-INTERVAL:P3D
CALSCALE:GREGORIAN
BEGIN:VEVENT
DTSTART;VALUE=DATE:20130505
DTEND;VALUE=DATE:20130513
TRANSP:TRANSPARENT
X-MICROSOFT-CDO-ALLDAYEVENT:TRUE
SUMMARY:Qdoba's Teacher Appreciation Week
DESCRIPTION:What do Qdoba and teachers have in common? Quite a bit actually. While our passion is to create all the bold\, handcrafted meals you crave\, yours is to mold the fresh\, bright future of today's students. To show our appreciation for all you do\, we'd like to give you a treat.\n\n\n\nRecieve a FREE COOKIE OR BROWNIE with your entree purchase from Sunday 5/5 - Sunday\, 5/12 when you show us your school ID.
X-ALT-DESC;FMTTYPE=text/html:What do Qdoba and teachers have in common? Quite a bit actually. While our passion is to create all the bold\, handcrafted meals you crave\, yours is to mold the fresh\, bright future of today&#39\;s students. To show our appreciation for all you do\, we&#39\;d like to give you a treat.<br />\n<br />\n<strong>Recieve a FREE COOKIE OR BROWNIE with your entree purchase from Sunday 5/5 - Sunday\, 5/12 when you show us your school ID.</strong>
LOCATION:Qdoba Mexican Grill 25596 Conifer Rd. | Conifer
UID:e.692.1463
SEQUENCE:3
DTSTAMP:20260424T055305Z
URL:https://business.goconifer.com/events/details/qdoba-s-teacher-appreciation-week-05-05-2013-1463
END:VEVENT

END:VCALENDAR
