BEGIN:VCALENDAR
VERSION:2.0
PRODID:-//ChamberMaster//Event Calendar 2.0//EN
METHOD:PUBLISH
X-PUBLISHED-TTL:P3D
REFRESH-INTERVAL:P3D
CALSCALE:GREGORIAN
BEGIN:VEVENT
DTSTART:20100727T233000Z
DTEND:20100728T003000Z
X-MICROSOFT-CDO-ALLDAYEVENT:FALSE
SUMMARY:Public Affairs Committee
DESCRIPTION:Public Affairs Committee meeting
X-ALT-DESC;FMTTYPE=text/html:<div>Public Affairs Committee meeting</div>
LOCATION:Lucille's of Jersey
UID:e.692.324
SEQUENCE:3
DTSTAMP:20260424T141606Z
URL:https://business.goconifer.com/events/details/public-affairs-committee-07-27-2010-324
END:VEVENT

END:VCALENDAR
