BEGIN:VCALENDAR
VERSION:2.0
PRODID:-//ChamberMaster//Event Calendar 2.0//EN
METHOD:PUBLISH
X-PUBLISHED-TTL:P3D
REFRESH-INTERVAL:P3D
CALSCALE:GREGORIAN
BEGIN:VEVENT
DTSTART;VALUE=DATE:20130418
DTEND;VALUE=DATE:20130421
TRANSP:TRANSPARENT
X-MICROSOFT-CDO-ALLDAYEVENT:TRUE
SUMMARY:Prelude to the Evergreen Children's Chorale presents: "101 Dalmations\, KIDS"
DESCRIPTION:Prelude presents a musical interpretation of Disney's classic tale: "101 Dalmations\, KIDS". Please join our group of talented young singers on a wild and fur filled adventure complete with Dalmations\, Scotties\, Poodles\, Chiuaua's and of course the ever evil Cruella DeVil\, and her two henchmen Horace and Jasper. \n\n\n\nDirected by Lisa Cole (Director) and Brenda Bartel (Assistant Director). Musical accompaniment by Susan Eby.
X-ALT-DESC;FMTTYPE=text/html:Prelude presents a musical interpretation of Disney&#39\;s classic tale: &quot\;101 Dalmations\, KIDS&quot\;. Please join our group of talented young singers on a wild and fur filled adventure complete with Dalmations\, Scotties\, Poodles\, Chiuaua&#39\;s and of course the ever evil Cruella DeVil\, and her two henchmen Horace and Jasper.&nbsp\;<br />\n<br />\nDirected by Lisa Cole (Director) and Brenda Bartel (Assistant Director).&nbsp\;Musical accompaniment by Susan Eby.
LOCATION:Elks Lodge. 27972 Iris Drive. Evergreen.
UID:e.692.1433
SEQUENCE:3
DTSTAMP:20260424T074024Z
URL:https://business.goconifer.com/events/details/prelude-to-the-evergreen-children-s-chorale-presents-101-dalmations-kids-04-18-2013-1433
END:VEVENT

END:VCALENDAR
