BEGIN:VCALENDAR
VERSION:2.0
PRODID:-//ChamberMaster//Event Calendar 2.0//EN
METHOD:PUBLISH
X-PUBLISHED-TTL:P3D
REFRESH-INTERVAL:P3D
CALSCALE:GREGORIAN
BEGIN:VEVENT
DTSTART:20131207T183000Z
DTEND:20131207T201500Z
X-MICROSOFT-CDO-ALLDAYEVENT:FALSE
SUMMARY:Pre-Parade Party
DESCRIPTION:Aspen Park Landscape Supply will be having live acoustic bluegrass/string music pre-parade.  We will start around 11:30am and will go until parade time.  It's free to everyone and we will have cider\, cocoa\, and other goodies.
X-ALT-DESC;FMTTYPE=text/html:Aspen Park Landscape Supply&nbsp\;will be having live acoustic bluegrass/string music pre-parade. &nbsp\;We will start around <span class="aBn" data-term="goog_1651042543" tabindex="0"><span class="aQJ">11:30am</span></span> and will go until parade time. &nbsp\;It&#39\;s free to everyone and we will have cider\, cocoa\, and other goodies.
LOCATION:Aspen Park Landscape Supply (near Elk Creek Elementary) 26527 Conifer Road
UID:e.692.1608
SEQUENCE:3
DTSTAMP:20260423T195737Z
URL:https://business.goconifer.com/events/details/pre-parade-party-12-07-2013-1608
END:VEVENT

END:VCALENDAR
