BEGIN:VCALENDAR
VERSION:2.0
PRODID:-//ChamberMaster//Event Calendar 2.0//EN
METHOD:PUBLISH
X-PUBLISHED-TTL:P3D
REFRESH-INTERVAL:P3D
CALSCALE:GREGORIAN
BEGIN:VEVENT
DTSTART:20160102T020000Z
DTEND:20160102T040000Z
X-MICROSOFT-CDO-ALLDAYEVENT:FALSE
SUMMARY:Powerful Intention Circle with Sound Meditation with Ana Medina
DESCRIPTION:When two or more are gathered\, MAGIC HAPPENS! Start your year in one of the most powerful ways possible\, by setting an intention for the year in an intention circle of like-minded souls. We will align our energies with each intention for the manifestation of your deepest dreams and desires! Then we will connect with the frequencies of your manifested dreams in a beautifully relaxing Sound Meditation with Tibetan and Crystal singing bowls\, flutes\, harps and many other amazing world instruments!\n\n \n\nWhen: Friday\, January 1st\, 7-9pm\n\nInvestment: $25\n\nRegister: www.taspens.com\, (303) 816-0429\, info@taspens.com
X-ALT-DESC;FMTTYPE=text/html:<div>\n<div>When two or more are gathered\, MAGIC HAPPENS! Start your year in one of the most powerful ways possible\, by setting an intention for the year in an intention circle of like-minded souls. We will align our energies with each intention for the manifestation of your deepest dreams and desires! Then we will connect with the frequencies of your manifested dreams in a beautifully relaxing Sound Meditation with Tibetan and Crystal singing bowls\, flutes\, harps and many other amazing world instruments!</div>\n\n<div>&nbsp\;</div>\n\n<div><span style="color:#008080"><strong>When:</strong></span> Friday\, January 1st\, 7-9pm\n\n<p><span style="color:#008080"><strong>Investment:</strong></span> $25</p>\n\n<p><span style="color:#008080"><strong>Register:</strong></span> www.taspens.com\, (303) 816-0429\, info@taspens.com</p>\n</div>\n</div>\n
LOCATION:Taspen's Organics 12424 Big Timber Dr. Conifer\, CO 80433
UID:e.692.14394
SEQUENCE:3
DTSTAMP:20260422T041547Z
URL:https://business.goconifer.com/events/details/powerful-intention-circle-with-sound-meditation-with-ana-medina-01-01-2016-14394
END:VEVENT

END:VCALENDAR
