BEGIN:VCALENDAR
VERSION:2.0
PRODID:-//ChamberMaster//Event Calendar 2.0//EN
METHOD:PUBLISH
X-PUBLISHED-TTL:P3D
REFRESH-INTERVAL:P3D
CALSCALE:GREGORIAN
BEGIN:VEVENT
DTSTART:20200319T230000Z
DTEND:20200320T020000Z
X-MICROSOFT-CDO-ALLDAYEVENT:FALSE
SUMMARY:POSTPONED: Annual Awards Banquet - Conifer Area Chamber of Commerce
DESCRIPTION:Updates to be provided once new date has been determined.
X-ALT-DESC;FMTTYPE=text/html:Updates to be provided once new date has been determined.
LOCATION:Woodlands Event Center The address is 8884 US HWY 285\, Morrison\, CO 80465. There is a left hand turn lane into the property from HWY 285 going South. As you travel on Highway 285 South and start approaching the address there will be a church on the left and a fire station on the right. You will begin going uphill and there is a left hand turn lane\, take that lane to turn in.
UID:e.692.28413
SEQUENCE:3
DTSTAMP:20260426T033800Z
URL:https://business.goconifer.com/events/details/postponed-annual-awards-banquet-conifer-area-chamber-of-commerce-28413
END:VEVENT

END:VCALENDAR
