BEGIN:VCALENDAR
VERSION:2.0
PRODID:-//ChamberMaster//Event Calendar 2.0//EN
METHOD:PUBLISH
X-PUBLISHED-TTL:P3D
REFRESH-INTERVAL:P3D
CALSCALE:GREGORIAN
BEGIN:VEVENT
DTSTART:20140422T161500Z
DTEND:20140422T203000Z
X-MICROSOFT-CDO-ALLDAYEVENT:FALSE
SUMMARY:Political analyst Floyd Ciruli to address Jeffco League of Women Voters
DESCRIPTION:Pollster and political analyst Floyd Ciruli\, of Denver-based Ciruli Associates\, will address the League of Women Voters of Jeferson County at the group's annual meeting.  His speech is entitle "2014: Colorado Still in the Spotlight."
X-ALT-DESC;FMTTYPE=text/html:Pollster and political analyst Floyd Ciruli\, of Denver-based Ciruli Associates\, will address the League of Women Voters of Jeferson County at the group&#39\;s annual meeting.&nbsp\; His speech is entitle &quot\;2014: Colorado Still in the Spotlight.&quot\;
LOCATION:Expectations Restaurant Warren Tech High School 13300 West 2nd Place Lakewood\, CO 80228
UID:e.692.2353
SEQUENCE:3
DTSTAMP:20260423T145429Z
URL:https://business.goconifer.com/events/details/political-analyst-floyd-ciruli-to-address-jeffco-league-of-women-voters-04-22-2014-2353
END:VEVENT

END:VCALENDAR
