BEGIN:VCALENDAR
VERSION:2.0
PRODID:-//ChamberMaster//Event Calendar 2.0//EN
METHOD:PUBLISH
X-PUBLISHED-TTL:P3D
REFRESH-INTERVAL:P3D
CALSCALE:GREGORIAN
BEGIN:VEVENT
DTSTART;VALUE=DATE:20160711
DTEND;VALUE=DATE:20160712
TRANSP:TRANSPARENT
X-MICROSOFT-CDO-ALLDAYEVENT:TRUE
SUMMARY:Playtime Drama Camp at The Venue Theatre
DESCRIPTION:Awesome and affordable elementary summer camp supervised by our amazing elementary troupe director Joni Havens and instructed by our talented high school students (2 instructors for every 10 participants.) \n\nGrades 1 - 5. Students will bring sack lunch each day.
X-ALT-DESC;FMTTYPE=text/html:<span style="font-family: Verdana\, Arial\, Helvetica\; font-size: 12px\; line-height: 17.1429px\;">Awesome and affordable elementary summer camp supervised by our amazing elementary troupe director Joni Havens and instructed by our talented high school students (2 instructors for every 10 participants.)&nbsp\;</span><br style="box-sizing: border-box\; font-family: Verdana\, Arial\, Helvetica\; font-size: 12px\; line-height: 17.1429px\;" />\n<span style="font-family: Verdana\, Arial\, Helvetica\; font-size: 12px\; line-height: 17.1429px\;">Grades 1 - 5. Students will bring sack lunch each day.&nbsp\;</span><br style="box-sizing: border-box\; font-family: Verdana\, Arial\, Helvetica\; font-size: 12px\; line-height: 17.1429px\;" />\n&nbsp\;
LOCATION:The Venue Theatre 27132 Main Street\, Conifer
UID:e.692.18902
SEQUENCE:3
DTSTAMP:20260421T211631Z
URL:https://business.goconifer.com/events/details/playtime-drama-camp-at-the-venue-theatre-07-11-2016-18902
END:VEVENT

END:VCALENDAR
