BEGIN:VCALENDAR
VERSION:2.0
PRODID:-//ChamberMaster//Event Calendar 2.0//EN
METHOD:PUBLISH
X-PUBLISHED-TTL:P3D
REFRESH-INTERVAL:P3D
CALSCALE:GREGORIAN
BEGIN:VEVENT
DTSTART:20140506T180000Z
DTEND:20140506T190000Z
X-MICROSOFT-CDO-ALLDAYEVENT:FALSE
SUMMARY:Picasso to Pollock
DESCRIPTION:Join us at CAE to explore the biographies and works of the icons of the modern art world - Pablo Picasso\, Salvador Dali\, Frida Kahlo\, Andy Warhol\, Jackson Pollock and more. This lecture series will focus on the masters of the modern art world of the 20th Century and consider ideas that contributed to the development and rejection of later art movements such as cubism\, surrealism\, pop art and minimalism. The final classes will be spent at the Denver Art Museum and the Clifford Still Museum touring the exhibits "Modern Masters: 20th Century Icons from the Albright-Knox Art Gallery" and "1959" which recreates Still's Landmark exhibition held at the Albright-Knox in the fall of 1959.
X-ALT-DESC;FMTTYPE=text/html:<span style="color: rgb(0\, 0\, 0)\; font-family: verdana\, arial\, helvetica\, sans-serif\; font-size: 13px\; font-style: normal\; font-variant: normal\; font-weight: normal\; letter-spacing: normal\; line-height: normal\; orphans: auto\; text-align: start\; text-indent: 0px\; text-transform: none\; white-space: normal\; widows: auto\; word-spacing: 0px\; -webkit-text-stroke-width: 0px\; background-color: rgb(255\, 255\, 255)\; display: inline !important\; float: none\;">Join us at CAE to explore the biographies and works of the icons of the modern art world - Pablo Picasso\, Salvador Dali\, Frida Kahlo\, Andy Warhol\, Jackson Pollock and more. This lecture series will focus on the masters of the modern art world of the 20th Century and consider ideas that contributed to the development and rejection of later art movements such as cubism\, surrealism\, pop art and minimalism. The final classes will be spent at the Denver Art Museum and the Clifford Still Museum touring the exhibits &quot\;Modern Masters: 20th Century Icons from the Albright-Knox Art Gallery&quot\; and &quot\;1959&quot\; which recreates Still&#39\;s Landmark exhibition held at the Albright-Knox in the fall of 1959.</span>
LOCATION:Center For The Arts Evergreen
UID:e.692.2880
SEQUENCE:3
DTSTAMP:20260423T131801Z
URL:https://business.goconifer.com/events/details/picasso-to-pollock-05-06-2014-2880
END:VEVENT

END:VCALENDAR
