BEGIN:VCALENDAR
VERSION:2.0
PRODID:-//ChamberMaster//Event Calendar 2.0//EN
METHOD:PUBLISH
X-PUBLISHED-TTL:P3D
REFRESH-INTERVAL:P3D
CALSCALE:GREGORIAN
BEGIN:VEVENT
DTSTART:20110404T153000Z
DTEND:20110509T173000Z
X-MICROSOFT-CDO-ALLDAYEVENT:FALSE
SUMMARY:Parenting Workshop for parents of children ages 5-12
DESCRIPTION:Mountain Resource Center is offering the nationally acclaimed course Active Parenting Now for parents looking to improve their parenting skills.  Active Parenting Now is packed with activities\, discussion\, and real-world examples.  You?ll learn a proven approach to parenting kids ages 5 to 12\, plus techniques for overcoming parenting obstacles.  Snacks and beverages will be served.  Parents will also receive an Active Parenting Now book.  Parents will receive a certificate upon completion of the class.
X-ALT-DESC;FMTTYPE=text/html:Mountain Resource Center is offering the nationally acclaimed course Active Parenting Now for parents looking to improve their parenting skills.  Active Parenting Now is packed with activities\, discussion\, and real-world examples.  You?ll learn a proven approach to parenting kids ages 5 to 12\, plus techniques for overcoming parenting obstacles.  Snacks and beverages will be served.  Parents will also receive an Active Parenting Now book.  Parents will receive a certificate upon completion of the class.\n<br>\n<br>
LOCATION:Classes will be held in the Community Room at MRC\, located at 11030 Kitty Drive in Conifer.
UID:e.692.1122
SEQUENCE:3
DTSTAMP:20260425T034719Z
URL:https://business.goconifer.com/events/details/parenting-workshop-for-parents-of-children-ages-5-12-04-04-2011-1122
END:VEVENT

END:VCALENDAR
