BEGIN:VCALENDAR
VERSION:2.0
PRODID:-//ChamberMaster//Event Calendar 2.0//EN
METHOD:PUBLISH
X-PUBLISHED-TTL:P3D
REFRESH-INTERVAL:P3D
CALSCALE:GREGORIAN
BEGIN:VEVENT
DTSTART;VALUE=DATE:20130518
DTEND;VALUE=DATE:20130519
TRANSP:TRANSPARENT
X-MICROSOFT-CDO-ALLDAYEVENT:TRUE
SUMMARY:Pam's Jam 2013-Stingers Soccer Club
DESCRIPTION:Media Contact:\n\n	Andrea Brito-Amador\n\n	andrea@intouchpublicrelations.com\n\n	303.817.0241\n\n	Stingers Soccer Club Event to Honor Legacy of Volunteerism\n\n	Stingers Announces Pam's Jam in Memory of Christensen\n\n	Evergreen\, Co May 7\, 2013--Stingers Soccer Club is pleased to announce the 4th annual PAM'S JAM to be held on Saturday May 18 in Evergreen\, Colorado. Pam's Jam is a soccer jamboree to honor the memory of Pam Christensen\, President of Stingers Soccer Club from 1997-2003. Stingers will put the focus on fun\, family\, and friends. The format will be a jamboree atmosphere where all Stingers U6-U11 children will have an opportunity to play soccer and other activities.  More than 400 children are expected to participate in this spring's Pam's Jam.\n\n	General Manager Zac Crawford said\, "This is a special event for Stingers\, celebrating our youngest players and their families\, the end of another great season\, and the spirit of service which runs throughout our club." \n\n	About Pam Christensen\n\n	Pam Christensen passed away in 2009 from injuries related to a fall\, after living a life of service\, friendship and commitment to enhancing the world around her.  An athlete\, a lawyer\, a world-traveler and a mother\, Pam Christensen was also a tireless leader who worked to unite and build the Evergreen community.  \n\n	To honor Pam's legacy of volunteerism\, Stingers Leadership Corps will also be collecting soccer gear to donate to Soccer Dreams Without Borders\, a refugee soccer program.  Please consider donating gently used soccer gear and sport wear for this worthy cause.  \n\n	If you are interested in becoming a sponsor for this event\, please click here. For more information contact Zac Crawford by phone (303-679-9222) or email zac@stingerssoccer.net.\n\n	About Stingers Soccer Club\n\n	Stingers welcomes all ages and levels of youth soccer players! As a 501(c) 3 non-profit we maintain a mission to maximize community participation and so we provide programs to accommodate many levels of play. Stingers Soccer Club has been serving the Jeffco Mountain areas of Evergreen\, Conifer\, Morrison\, Kittredge\, Bailey and Pine since 1979. For more information visit www.stingerssoccer.com
X-ALT-DESC;FMTTYPE=text/html:<p align="right" class="MsoNormal" style="text-align: right\;">\n	&nbsp\;</p>\n<p align="right" class="MsoNormal" style="text-align: right\; margin-bottom: 0pt\;">\n	<span style="font-family: \;">Media Contact:</span></p>\n<p align="right" class="MsoNormal" style="text-align: right\; margin-bottom: 0pt\;">\n	<span style="font-family: \;">Andrea Brito-Amador</span></p>\n<p align="right" class="MsoNormal" style="text-align: right\; margin-bottom: 0pt\;">\n	<a href="mailto:andrea@intouchpublicrelations.com"><a href="mailto:andrea@intouchpublicrelations.com"><span style="font-family: \;">andrea@intouchpublicrelations.com</span></a></a></p>\n<p align="right" class="MsoNormal" style="text-align: right\; margin-bottom: 0pt\;">\n	<span style="font-family: \;">303.817.0241</span></p>\n<p class="MsoNormal" style="margin-bottom: 0pt\;">\n	<b><u><span style="line-height: 115%\; font-family: \; font-size: 16pt\;">Stingers Soccer Club Event to Honor Legacy of Volunteerism</span></u></b></p>\n<p class="MsoNormal" style="margin-bottom: 0pt\;">\n	<span style="line-height: 115%\; font-family: \; font-size: 14pt\;">Stingers Announces Pam&rsquo\;s Jam in Memory of Christensen</span></p>\n<p class="MsoNormal" style="line-height: 13.5pt\; mso-margin-top-alt: auto\; mso-margin-bottom-alt: auto\;">\n	<span style="font-family: \; font-size: 12pt\;">Evergreen\,&nbsp\;Co&mdash\;May 7\, 2013--</span><a href="http://www.stingerssoccerclub.com/"><span style="font-family: \; font-size: 12pt\;">Stingers </span><span new="" style="font-family: \; font-size: 12pt\;" times="">Soccer Club</span></a><span new="" style="font-family: \; font-size: 12pt\;" times=""> is pleased to announce the 4<sup>th</sup>&nbsp\;annual </span><a href="http://stingerssoccer.com/stingers-4th-annual-pams-jam/"><span new="" style="font-family: \; font-size: 12pt\;" times="">PAM&rsquo\;S JAM</span></a><span new="" style="font-family: \; font-size: 12pt\;" times=""> to be held on Saturday May 18 in Evergreen\, Colorado. Pam&rsquo\;s Jam is a soccer jamboree to honor the memory of Pam Christensen\, President of Stingers Soccer Club from 1997-2003. Stingers will put the focus on fun\, family\, and friends. The format&nbsp\;will be a jamboree atmosphere where all Stingers U6-U11&nbsp\;children will have an opportunity to play&nbsp\;soccer and other activities.&nbsp\; More than 400&nbsp\;children are expected to participate in this spring&rsquo\;s Pam&rsquo\;s Jam.</span></p>\n<p class="MsoNormal" style="line-height: 13.5pt\; mso-margin-top-alt: auto\; mso-margin-bottom-alt: auto\;">\n	<span new="" style="font-family: \; font-size: 12pt\;" times="">General Manager Zac Crawford said\, &ldquo\;This is a special event for Stingers\, celebrating our youngest players and their families\, the end of another great season\, and the spirit of service which runs throughout our club.&rdquo\;&nbsp\;</span></p>\n<p class="MsoNormal" style="line-height: 13.5pt\; mso-margin-top-alt: auto\; mso-margin-bottom-alt: auto\;">\n	<b><span new="" style="font-family: \; font-size: 12pt\;" times="">About Pam Christensen</span></b></p>\n<p class="MsoNormal" style="line-height: 13.5pt\; mso-margin-top-alt: auto\; mso-margin-bottom-alt: auto\;">\n	<span new="" style="font-family: \; font-size: 12pt\;" times="">Pam Christensen passed away in 2009 from injuries related to a fall\, after living a life of service\, friendship and commitment to enhancing the world around her.&nbsp\; An athlete\, a lawyer\, a world-traveler and a mother\, Pam Christensen was also a tireless leader who worked to unite and build the Evergreen community.&nbsp\; </span></p>\n<p class="MsoNormal" style="line-height: 13.5pt\; mso-margin-top-alt: auto\; mso-margin-bottom-alt: auto\;">\n	<span new="" style="font-family: \; font-size: 12pt\;" times="">To honor Pam&rsquo\;s legacy of volunteerism\, Stingers Leadership Corps will also be <b>collecting soccer gear to donate</b> to </span><a href="http://www.soccerdreamswithoutborders.org/"><span new="" style="font-family: \; font-size: 12pt\;" times="">Soccer Dreams Without Borders</span></a><span new="" style="font-family: \; font-size: 12pt\;" times="">\, a refugee soccer program.&nbsp\; Please consider donating gently used soccer gear and sport wear for this worthy cause.&nbsp\; </span></p>\n<p class="MsoNormal" style="line-height: 13.5pt\; mso-margin-top-alt: auto\; mso-margin-bottom-alt: auto\;">\n	<span new="" style="font-family: \; font-size: 12pt\;" times="">If you are interested in <b><i>becoming a sponsor</i></b> for this event\, please </span><a href="http://stingerssoccer.com/sponsors/become-a-sponsor/"><span new="" style="font-family: \; font-size: 12pt\;" times="">click here</span></a><span new="" style="font-family: \; font-size: 12pt\;" times="">. For more information contact Zac Crawford by phone (303-679-9222) or email </span><a href="mailto:zac@stingerssoccer.net"><b><span new="" style="font-family: \; font-size: 12pt\;" times="">zac@stingerssoccer.net</span></b></a><span new="" style="font-family: \; font-size: 12pt\;" times="">.</span></p>\n<p class="MsoNormal">\n	<b><span style="font-family: \;">About Stingers Soccer Club</span></b></p>\n<p class="MsoNormal">\n	<span style="font-family: \;">Stingers welcomes all ages and levels of youth soccer players! As a 501(c) 3 non-profit we maintain a mission to maximize community participation and so we provide programs to accommodate many levels of play. Stingers Soccer Club has been serving the Jeffco Mountain areas of Evergreen\, Conifer\, Morrison\, Kittredge\, Bailey and Pine since 1979. For more information visit </span><a href="http://www.stingerssoccer.com/"><span style="font-family: \;">www.stingerssoccer.com</span></a></p>\n
LOCATION:Marshdale Fields - 26663 North Turkey Creek Rd\, Evergreen\, CO )
UID:e.692.1464
SEQUENCE:3
DTSTAMP:20260424T055442Z
URL:https://business.goconifer.com/events/details/pam-s-jam-2013-stingers-soccer-club-05-18-2013-1464
END:VEVENT

END:VCALENDAR
