BEGIN:VCALENDAR
VERSION:2.0
PRODID:-//ChamberMaster//Event Calendar 2.0//EN
METHOD:PUBLISH
X-PUBLISHED-TTL:P3D
REFRESH-INTERVAL:P3D
CALSCALE:GREGORIAN
BEGIN:VEVENT
DTSTART:20101007T003000Z
DTEND:20101007T020000Z
X-MICROSOFT-CDO-ALLDAYEVENT:FALSE
SUMMARY:Our Future\, Our Community\, Our Children
DESCRIPTION:What will ballot measures 60\,61\, and 101 do to our schools\, economy and state?\n\n\n\nJoin us to learn more about the state of Jeffco schools\, past and current budget impacts\, and Proposition 101 and Amendments 60 & 61.\n\n\n\nPresenters include\n\nSue Windels\, former State Senator and Greart Education CO rep.\n\nKathy Hartman\, Jefferson County Commissioner
X-ALT-DESC;FMTTYPE=text/html:What will ballot measures 60\,61\, and 101 do to our schools\, economy and state?<br />\n<br />\nJoin us to learn more about the state of Jeffco schools\, past and current budget impacts\, and Proposition 101 and Amendments 60 &amp\; 61.<br />\n<br />\nPresenters include<br />\nSue Windels\, former State Senator and Greart Education CO rep.<br />\nKathy Hartman\, Jefferson County Commissioner
LOCATION:Conifer High School Cafetorium
UID:e.692.794
SEQUENCE:3
DTSTAMP:20260424T181251Z
URL:https://business.goconifer.com/events/details/our-future-our-community-our-children-10-06-2010-794
END:VEVENT

END:VCALENDAR
