BEGIN:VCALENDAR
VERSION:2.0
PRODID:-//ChamberMaster//Event Calendar 2.0//EN
METHOD:PUBLISH
X-PUBLISHED-TTL:P3D
REFRESH-INTERVAL:P3D
CALSCALE:GREGORIAN
BEGIN:VEVENT
DTSTART;VALUE=DATE:20160126
DTEND;VALUE=DATE:20160209
TRANSP:TRANSPARENT
X-MICROSOFT-CDO-ALLDAYEVENT:TRUE
SUMMARY:Order your Mardi Gras King's Cake from The Village Patisserie Today
DESCRIPTION:A very popular custom that is still celebrated is the making of the "King's Cake" which represents the three kings who brought gifts. A plastic baby is baked inside the King Cake\, and the tradition is whoever receives the baby in their piece of cake must buy the next King Cake or throw the next party. King Cakes are made of a cinnamon filled dough in the shape of a hollow circle. The cake is topped with a delicious glazed topping and then sprinkled with colored sugar. The three colors of the sugar are Purple (representing Justice)\, Green (representing Faith) and Gold (representing Power). \n\n\n\nReservations Now Being Taken\n\n$20 | For Pickup on or before 2-9-16\n\nOrder by Phone 303-838-7025 or on our Website www.TheVillagePastryShop.com
X-ALT-DESC;FMTTYPE=text/html:<span style="font-size:14px">A very popular custom that is still celebrated is the making of the &ldquo\;King&rsquo\;s Cake&rdquo\; which represents the three kings who brought gifts. A plastic baby is baked inside the King Cake\, and the tradition is whoever receives the baby in their piece of cake must buy the next King Cake or throw the next party. King Cakes are made of a cinnamon filled dough in the shape of a hollow circle. The cake is topped with a delicious glazed topping and then sprinkled with colored sugar. The three colors of the sugar are Purple (representing Justice)\, Green (representing Faith) and Gold (representing Power).&nbsp\;</span><br />\n<br />\n<span style="font-size:16px"><span style="color:#4B0082">Reservations Now Being Taken<br />\n$20 | For Pickup on or before 2-9-16<br />\nOrder by Phone 303-838-7025 or on our Website www.TheVillagePastryShop.com</span></span>
LOCATION:25557 Conifer Road #130\, Conifer\, CO 80433
UID:e.692.17067
SEQUENCE:3
DTSTAMP:20260422T031155Z
URL:https://business.goconifer.com/events/details/order-your-mardi-gras-king-s-cake-from-the-village-patisserie-today-01-26-2016-17067
END:VEVENT

END:VCALENDAR
