BEGIN:VCALENDAR
VERSION:2.0
PRODID:-//ChamberMaster//Event Calendar 2.0//EN
METHOD:PUBLISH
X-PUBLISHED-TTL:P3D
REFRESH-INTERVAL:P3D
CALSCALE:GREGORIAN
BEGIN:VEVENT
DTSTART;VALUE=DATE:20100508
DTEND;VALUE=DATE:20100509
TRANSP:TRANSPARENT
X-MICROSOFT-CDO-ALLDAYEVENT:TRUE
SUMMARY:Open House/Ribbon Cutting
DESCRIPTION:Open House and Ribbon Cutting at Archlees Hair Studio-Starz Tanning & Nail Spa \n\nThe Ribbon Cutting will be at 11:00 a.m.\n\nMusic\, Food and Drinks
X-ALT-DESC;FMTTYPE=text/html:Open House and Ribbon Cutting at Archlees Hair Studio-Starz Tanning &amp\; Nail Spa \n<br>The Ribbon Cutting will be at 11:00 a.m.\n<br>Music\, Food and Drinks
LOCATION:12424 Big Timber Dr.\, Conifer\, CO
UID:e.692.377
SEQUENCE:3
DTSTAMP:20260424T112214Z
URL:https://business.goconifer.com/events/details/open-house-ribbon-cutting-05-08-2010-377
END:VEVENT

END:VCALENDAR
