BEGIN:VCALENDAR
VERSION:2.0
PRODID:-//ChamberMaster//Event Calendar 2.0//EN
METHOD:PUBLISH
X-PUBLISHED-TTL:P3D
REFRESH-INTERVAL:P3D
CALSCALE:GREGORIAN
BEGIN:VEVENT
DTSTART:20130404T003000Z
DTEND:20130404T030000Z
X-MICROSOFT-CDO-ALLDAYEVENT:FALSE
SUMMARY:Open Auditions for "Barefoot in the Park" at StageDoor Theatre
DESCRIPTION:Callbacks: April 7\, 2013\, 6:30pm\n\n	 \n\n	Performances: June 12 - 24\, 2013. \n\n	\n\n	StageDoor Theatre\, 25797 Conifer Road\, Conifer\, CO 80433\n\n	 \n\n	For more info on the characters\, see www.stagedoortheatre.org\n\n	 \n\n	Auditions are by appointment only.  To request an audition time\, contact the director\, \n\n	Justin Johnson at: jj525600@gmail.com or 303-838-7541.\n\n	 \n\n	Actors should prepare a 1-2 minute comedic monologue and be prepared to participate in cold readings from the script. All roles are open. \n\n	 \n\n	"Barefoot in the Park"\, by Neil Simon\, combines love and laughs. Paul Bratter is a newly married lawyer. Corrie Bratter is a newly married woman whose main goal in life is to have fun and to have it with Paul. Together they learn how to live and love in an apartment that's laughably small in New York and located on the fifth floor of a building with no elevator. Corrie's mother has some of the funniest lines.
X-ALT-DESC;FMTTYPE=text/html:<h5 style="margin: 0in 0in 0pt\; vertical-align: baseline\;">\n	<span style="font-family: &quot\;Arial&quot\;\,&quot\;sans-serif&quot\;\; font-size: 11pt\; font-weight: normal\; mso-bidi-font-weight: bold\;"><font color="#000000">Callbacks: April 7\, 2013\, 6:30pm</font></span></h5>\n<h5 style="margin: 0in 0in 0pt\; vertical-align: baseline\;">\n	<span style="font-family: &quot\;Arial&quot\;\,&quot\;sans-serif&quot\;\; font-size: 11pt\; font-weight: normal\; mso-bidi-font-weight: bold\;"><o:p><font color="#000000" face="Times New Roman" size="3">&nbsp\;</font></o:p></span></h5>\n<p style="margin: 0in 0in 0pt\; vertical-align: baseline\;">\n	<span style="font-family: &quot\;Arial&quot\;\,&quot\;sans-serif&quot\;\; font-size: 11pt\;"><font color="#000000">Performances: June 12 - 24\, 2013. <o:p></o:p></font></span></p>\n<p class="MsoNormal" style="margin: 0in 0in 0pt\;">\n	<br />\n	<span style="color: windowtext\; font-family: &quot\;Arial&quot\;\,&quot\;sans-serif&quot\;\; font-size: 11pt\;"><span class="postbody1"><span style="mso-ansi-font-size: 11.0pt\; mso-bidi-font-size: 11.0pt\;">StageDoor Theatre\, 25797 Conifer Road\, Conifer\, CO 80433<o:p></o:p></span></span></span></p>\n<p class="MsoNormal" style="margin: 0in 0in 0pt\;">\n	<span style="color: windowtext\; font-family: &quot\;Arial&quot\;\,&quot\;sans-serif&quot\;\; font-size: 11pt\;"><o:p><font face="Times New Roman" size="3">&nbsp\;</font></o:p></span></p>\n<p class="MsoNormal" style="margin: 0in 0in 0pt\;">\n	<span style="color: windowtext\; font-family: &quot\;Arial&quot\;\,&quot\;sans-serif&quot\;\; font-size: 11pt\;">For more info on the characters\, see </span><span style="color: rgb(51\, 51\, 51)\; font-family: &quot\;Arial&quot\;\,&quot\;sans-serif&quot\;\; font-size: 11pt\;"><a href="http://www.stagedoortheatre.org/" target="_blank"><font color="#0000ff">www.stagedoortheatre.org</font></a></span><span style="color: windowtext\; font-family: &quot\;Arial&quot\;\,&quot\;sans-serif&quot\;\; font-size: 11pt\;"><o:p></o:p></span></p>\n<p class="MsoNormal" style="margin: 0in 0in 0pt\;">\n	<span style="color: windowtext\; font-family: &quot\;Arial&quot\;\,&quot\;sans-serif&quot\;\; font-size: 11pt\;"><o:p><font face="Times New Roman" size="3">&nbsp\;</font></o:p></span></p>\n<p class="MsoNormal" style="margin: 0in 0in 0pt\;">\n	<span style="color: windowtext\; font-family: &quot\;Arial&quot\;\,&quot\;sans-serif&quot\;\; font-size: 11pt\;">Auditions are by appointment only. <span style="mso-spacerun: yes\;">&nbsp\;</span>To request an audition time\, contact the director\, <o:p></o:p></span></p>\n<p class="MsoNormal" style="margin: 0in 0in 0pt\;">\n	<span style="color: windowtext\; font-family: &quot\;Arial&quot\;\,&quot\;sans-serif&quot\;\; font-size: 11pt\;">Justin Johnson at: </span><span style="color: rgb(0\, 112\, 192)\; font-family: &quot\;Arial&quot\;\,&quot\;sans-serif&quot\;\; font-size: 11pt\;"><a href="mailto:jj525600@gmail.com" target="_blank"><span style="color: rgb(0\, 112\, 192)\;">jj525600@gmail.com</span></a></span><span style="color: windowtext\; font-family: &quot\;Arial&quot\;\,&quot\;sans-serif&quot\;\; font-size: 11pt\;"> or </span><span style="color: rgb(0\, 112\, 192)\; font-family: &quot\;Arial&quot\;\,&quot\;sans-serif&quot\;\; font-size: 11pt\;"><a href="tel:303-838-7541" target="_blank"><span style="color: rgb(0\, 112\, 192)\;">303-838-7541</span></a>.</span><span style="color: windowtext\; font-family: &quot\;Arial&quot\;\,&quot\;sans-serif&quot\;\; font-size: 11pt\;"><o:p></o:p></span></p>\n<p class="MsoNormal" style="margin: 0in 0in 0pt\;">\n	<span style="color: windowtext\; font-family: &quot\;Arial&quot\;\,&quot\;sans-serif&quot\;\; font-size: 11pt\;"><o:p><font face="Times New Roman" size="3">&nbsp\;</font></o:p></span></p>\n<p class="MsoNormal" style="margin: 0in 0in 0pt\;">\n	<span style="color: windowtext\; font-family: &quot\;Arial&quot\;\,&quot\;sans-serif&quot\;\; font-size: 11pt\;">Actors should prepare a 1-2 minute comedic monologue and be prepared to participate in cold readings from the script. All roles are open. <o:p></o:p></span></p>\n<p style="margin: 0in 0in 0pt\; line-height: 14.4pt\; vertical-align: baseline\;">\n	<span style="font-family: &quot\;Arial&quot\;\,&quot\;sans-serif&quot\;\; font-size: 11pt\; mso-bidi-font-style: italic\;"><o:p><font color="#000000" face="Times New Roman" size="3">&nbsp\;</font></o:p></span></p>\n<p class="MsoNormal" style="margin: 0in 0in 0pt\;">\n	<i><span style="color: windowtext\; font-family: &quot\;Arial&quot\;\,&quot\;sans-serif&quot\;\; font-size: 11pt\;">&quot\;Barefoot in the Park&quot\;</span></i><span style="color: windowtext\; font-family: &quot\;Arial&quot\;\,&quot\;sans-serif&quot\;\; font-size: 11pt\; mso-bidi-font-style: italic\;">\, by Neil Simon\, c</span><span style="color: windowtext\; font-family: &quot\;Arial&quot\;\,&quot\;sans-serif&quot\;\; font-size: 11pt\;">ombines love and laughs. Paul Bratter is a newly married lawyer. Corrie Bratter is a newly married woman whose main goal in life is to have fun and to have it with Paul. Together they learn how to live and love in an apartment that&#39\;s laughably small in New York and located on the fifth floor of a building with no elevator. Corrie&#39\;s mother has some of the funniest lines.</span><b><span style="color: windowtext\; font-family: &quot\;Arial&quot\;\,&quot\;sans-serif&quot\;\; font-size: 11pt\; mso-font-kerning: 0pt\;"><o:p></o:p></span></b></p>\n
LOCATION:StageDoor Theatre 25797 Conifer Road\, Conifer\, CO 80433
UID:e.692.1453
SEQUENCE:3
DTSTAMP:20260424T085026Z
URL:https://business.goconifer.com/events/details/open-auditions-for-barefoot-in-the-park-at-stagedoor-theatre-04-03-2013-1453
END:VEVENT

END:VCALENDAR
