BEGIN:VCALENDAR
VERSION:2.0
PRODID:-//ChamberMaster//Event Calendar 2.0//EN
METHOD:PUBLISH
X-PUBLISHED-TTL:P3D
REFRESH-INTERVAL:P3D
CALSCALE:GREGORIAN
BEGIN:VEVENT
DTSTART;VALUE=DATE:20140614
DTEND;VALUE=DATE:20140615
TRANSP:TRANSPARENT
X-MICROSOFT-CDO-ALLDAYEVENT:TRUE
SUMMARY:On Their Heels Parade at Bailey Day 2014
DESCRIPTION:On Their Heels Parade at Bailey Day\n\n11:30 A.M. Saturday\, June 14\, 2014\n\n \n\nWalk awhile On Their Heels with PeaceWorks\, Inc.\n\nat Bailey Day 2014 \n\nto help raise funds and awareness for survivors of domestic violence\, sexual assualt\, stalking and other relationship crimes!\n\nCollect sponsorships and strut your stuff with us for three blocks\, then enjoy the rest of Bailey Day!\n\nFirefighters and first responders from throughout the local mountain area will lead the parade\, dressed in their uniforms and high heels\, feather boas\, ribbons\, bows and other fancy duds.  Join them with your family\, club\, team\, group or just your own soles\, or sponsor a walker to see them walk On Their Heels!  Walkers will meet at 11 a.m. on Saturday\, June 14 at the Mountain Peace Boutique & Resale Shoppe\,\n\n60615 US Hwy 285 in downtown Bailey\, next to the Knotty Pine\n\nDon't have the right shoes?  The Mountain Peace Boutique & Resale Shoppe will sell modestly priced shoes\, boas\, bows\, feathers\, and sparklies up to the time of the parade!\n\n\n\nFor more information\, visit www.PeaceWorks4u.org or call 303-838-7176
X-ALT-DESC;FMTTYPE=text/html:<h1 style="text-align: center\;"><span style="font-family:times new roman\;"><strong>On Their Heels Parade at Bailey Day</strong></span></h1>\n\n<p style="text-align: center\;"><strong><span style="font-size:14px\;"><span style="font-family:times new roman\;">11:30 A.M. Saturday\, June 14\, 2014</span></span></strong></p>\n\n<p>&nbsp\;</p>\n\n<p style="text-align: center\;">Walk awhile On Their Heels with PeaceWorks\, Inc.<br />\nat <strong>Bailey Day 2014 </strong><br />\nto help raise funds and awareness for survivors of domestic violence\, sexual assualt\, stalking and other relationship crimes!<br />\nCollect sponsorships and strut your stuff with us for three blocks\, then enjoy the rest of Bailey Day!</p>\n\n<p style="text-align: center\;">Firefighters and first responders from throughout the local mountain area will lead the parade\, dressed in their uniforms and high heels\, feather boas\, ribbons\, bows and other fancy duds. &nbsp\;Join them with your family\, club\, team\, group or just your own soles\, or sponsor a walker to see them walk On Their Heels! &nbsp\;Walkers will meet at 11 a.m. on Saturday\, June 14 at the <strong><span style="font-size:14px\;"><span style="font-family:times new roman\;">Mountain Peace Boutique &amp\; Resale Shoppe\,</span></span></strong><br />\n60615 US Hwy 285 in downtown Bailey\, next to the Knotty Pine</p>\n\n<p style="text-align: center\;">Don&#39\;t have the right shoes? &nbsp\;The Mountain Peace Boutique &amp\; Resale Shoppe will sell modestly priced shoes\, boas\, bows\, feathers\, and sparklies up to the time of the parade!<br />\n<br />\nFor more information\, visit www.PeaceWorks4u.org or call 303-838-7176</p>\n
LOCATION:Downtown Bailey
UID:e.692.2933
SEQUENCE:3
DTSTAMP:20260423T121119Z
URL:https://business.goconifer.com/events/details/on-their-heels-parade-at-bailey-day-2014-06-14-2014-2933
END:VEVENT

END:VCALENDAR
