BEGIN:VCALENDAR
VERSION:2.0
PRODID:-//ChamberMaster//Event Calendar 2.0//EN
METHOD:PUBLISH
X-PUBLISHED-TTL:P3D
REFRESH-INTERVAL:P3D
CALSCALE:GREGORIAN
BEGIN:VEVENT
DTSTART:20141026T000000Z
DTEND:20141026T020000Z
X-MICROSOFT-CDO-ALLDAYEVENT:FALSE
SUMMARY:October 285 Corridor Cash Mob event at Designing Spirits Sip and Paint Studio
DESCRIPTION:October cash mob special event: Please see the special RSVP instructions: 10/25 at Designing Spirits Sip and Paint Studio www.designingspirits.com 25797 Conifer Rd in the Aspen Park Village Center 6pm--8pm $25: A discount for us! You can pay online on their website or pay in cash at the door. HOWEVER\, the studio only holds 18 people so you do need to RSVP and buying in advance is the best way to guarantee your spot. (You must at least RSVP through the 285 Corridor Cash Mob events page and please note if you will pay online or pay at the door.) Bring: Wine or other beverage--everything else included We'll be painting your choice of Star and Small Sentiments paintings - freestyle your own design based on a pre-drawn canvas\, or learn to reverse stencil your favorite quote. Any personalized message in any color/style you wish under the expert tutelage of Rebecca Gschwend--owner/proprietor.
X-ALT-DESC;FMTTYPE=text/html:October cash mob special event: Please see the special RSVP instructions: 10/25 at Designing Spirits Sip and Paint Studio www.designingspirits.com 25797 Conifer Rd in the Aspen Park Village Center 6pm--8pm $25: A discount for us! You can pay online on their website or pay in cash at the door. HOWEVER\, the studio only holds 18 people so you do need to RSVP and buying in advance is the best way to guarantee your spot. (You must at least RSVP through the 285 Corridor Cash Mob events page and please note if you will pay online or pay at the door.) Bring: Wine or other beverage--everything else included We&#39\;ll be painting your choice of Star and Small Sentiments paintings - freestyle your own design based on a pre-drawn canvas\, or learn to reverse stencil your favorite quote. Any personalized message in any color/style you wish under the expert tutelage of Rebecca Gschwend--owner/proprietor.
LOCATION:25797 Conifer Rd in the Aspen Park Village Center
UID:e.692.5388
SEQUENCE:3
DTSTAMP:20260423T062754Z
URL:https://business.goconifer.com/events/details/october-285-corridor-cash-mob-event-at-designing-spirits-sip-and-paint-studio-10-25-2014-5388
END:VEVENT

END:VCALENDAR
