BEGIN:VCALENDAR
VERSION:2.0
PRODID:-//ChamberMaster//Event Calendar 2.0//EN
METHOD:PUBLISH
X-PUBLISHED-TTL:P3D
REFRESH-INTERVAL:P3D
CALSCALE:GREGORIAN
BEGIN:VEVENT
DTSTART:20280923T190000Z
DTEND:20280923T220000Z
X-MICROSOFT-CDO-ALLDAYEVENT:FALSE
SUMMARY:OctoBEERfest
DESCRIPTION:Conifer's OctoBEERfest sponsored by Morse Evergreen Auto Body at Brooks Place Tavern. \n\nCome out and enjoy beer tastings from over 15 breweries\, snacks door prizes\, games and more to support our the DECA program at Conifer High School for the next generation of business leaders.
X-ALT-DESC;FMTTYPE=text/html:<p style="margin: 0px 0px 6px\; color: rgb(20\, 24\, 35)\; font-family: helvetica\, arial\, sans-serif\; font-size: 14px\; line-height: 19.32px\;">Conifer&#39\;s OctoBEERfest sponsored by&nbsp\;<a aria-describedby="js_2i" aria-haspopup="true" aria-owns="js_2h" class="profileLink" data-hovercard="/ajax/hovercard/page.php?id=267332980027971" href="https://www.facebook.com/MorseEvergreenAutoBody" id="js_2j" style="color: rgb(59\, 89\, 152)\; cursor: pointer\; text-decoration: none\;">Morse Evergreen Auto Body</a>&nbsp\;at&nbsp\;<a class="profileLink" data-hovercard="/ajax/hovercard/page.php?id=162213617140170" href="https://www.facebook.com/pages/Brooks-Place-Tavern/162213617140170" style="color: rgb(59\, 89\, 152)\; cursor: pointer\; text-decoration: none\;">Brooks Place Tavern</a>.&nbsp\;</p>\n\n<p style="margin: 6px 0px 0px\; display: inline\; color: rgb(20\, 24\, 35)\; font-family: helvetica\, arial\, sans-serif\; font-size: 14px\; line-height: 19.32px\;">Come out and enjoy beer tastings from over 15 breweries\, snacks door prizes\, games and more to support our the DECA&nbsp\;program at Conifer High School for the next generation of business leaders.</p>\n
LOCATION:In the courtyard next to Brooks Place Tavern.
UID:e.692.24548
SEQUENCE:3
DTSTAMP:20260421T193326Z
URL:https://business.goconifer.com/events/details/octobeerfest-09-23-2028-24548
END:VEVENT

END:VCALENDAR
