BEGIN:VCALENDAR
VERSION:2.0
PRODID:-//ChamberMaster//Event Calendar 2.0//EN
METHOD:PUBLISH
X-PUBLISHED-TTL:P3D
REFRESH-INTERVAL:P3D
CALSCALE:GREGORIAN
BEGIN:VEVENT
DTSTART:20231016T210000Z
DTEND:20231016T220000Z
X-MICROSOFT-CDO-ALLDAYEVENT:FALSE
SUMMARY:Non-Profit Quarterly Meeting
DESCRIPTION:Join us on Monday\, October 16\, for our quarterly non-profit meeting. The topic this quarter is "Canva Craze: Transform Your Nonprofit's Marketing with Stunning Graphics".  You don't want to miss this presentation and discussion\, led by Maddy Reynolds.\n\n\n\nMaddy Reynolds\, founder of Abracadabra\, is here to help elevate and optimize marketing your brand in the digital realm by blending creative savvy and data-driven insights to craft success.\n\n \n\nHer number one priority is to save you time and design a unique marketing strategy for your brand to help you reach your goals.\n\n \n\nShe has ten-plus years in the industry and is confident she has the tools and resources to help you grow your brand on social media.
X-ALT-DESC;FMTTYPE=text/html:<span style="font-size:14px\;"><font color="#006344" face="YACgEZ1cb1Q 0\, _fb_\, auto"><b>Join us on Monday\, October 16\, for our quarterly non-profit meeting. The topic this quarter is &quot\;Canva Craze: Transform Your Nonprofit&#39\;s Marketing with Stunning Graphics&quot\;.&nbsp\; You don&#39\;t want to miss this presentation and discussion\, led by Maddy Reynolds.</b></font><br />\n<br />\n<strong>Maddy Reynolds\, founder of Abracadabra\, is here to help elevate and optimize marketing your brand in the digital realm by blending creative savvy and data-driven insights to craft success.<br />\n&nbsp\;<br />\nHer number one priority is to save you time and design a unique marketing strategy for your brand to help you reach your goals.<br />\n&nbsp\;<br />\nShe has ten-plus years in the industry and is confident she has the tools and resources to help you grow your brand on social media.</strong></span>\n<p class="sqsrte-large preFade fadeIn" style="font-size: calc(var(--large-text-size-value) * 1rem)\; white-space-collapse: preserve\; margin: 1rem 0px\; line-height: var(--body-font-line-height)\; color: rgb(0\, 0\, 0)\; transition-property: opacity\; overflow-wrap: break-word\; font-family: minerva-modern\; letter-spacing: 0.192px\; background-color: rgb(3\, 72\, 88)\; transition-timing-function: ease\; transition-duration: 0.9s\; transition-delay: 0.205714s\; opacity: 1 !important\;">&nbsp\;</p>\n
LOCATION:Evergreen Christian Outreach (ECHO) 27888 Meadow Drive Evergreen\, CO
UID:e.692.40248
SEQUENCE:3
DTSTAMP:20260423T205918Z
URL:https://business.goconifer.com/events/details/non-profit-quarterly-meeting-40248
END:VEVENT

END:VCALENDAR
