BEGIN:VCALENDAR
VERSION:2.0
PRODID:-//ChamberMaster//Event Calendar 2.0//EN
METHOD:PUBLISH
X-PUBLISHED-TTL:P3D
REFRESH-INTERVAL:P3D
CALSCALE:GREGORIAN
BEGIN:VEVENT
DTSTART:20140107T220000Z
DTEND:20140107T233000Z
X-MICROSOFT-CDO-ALLDAYEVENT:FALSE
SUMMARY:Non-Profit Meeting
DESCRIPTION:Mountain Area Quarterly Non-Profit Meeting.\n\nSpeaker: County Commissioner Don Rosier.
X-ALT-DESC;FMTTYPE=text/html:<span style="font-weight: bold\; language: EN\;"><span style="font-size: 9pt\;"><span style="font-family: arial\;"><span style="color: rgb(204\, 0\, 0)\;">Mountain Area Quarterly Non-Profit Meeting.<br />\nSpeaker: County Commissioner Don Rosier.&nbsp\;&nbsp\;</span></span></span></span><br />\n<br />\n&nbsp\;<br />\n
LOCATION:Stagecoach Grill. 30790 Stagecoach Blvd. Evergreen
UID:e.692.1757
SEQUENCE:3
DTSTAMP:20260423T184243Z
URL:https://business.goconifer.com/events/details/non-profit-meeting-01-07-2014-1757
END:VEVENT

END:VCALENDAR
