BEGIN:VCALENDAR
VERSION:2.0
PRODID:-//ChamberMaster//Event Calendar 2.0//EN
METHOD:PUBLISH
X-PUBLISHED-TTL:P3D
REFRESH-INTERVAL:P3D
CALSCALE:GREGORIAN
BEGIN:VEVENT
DTSTART:20110101T010000Z
DTEND:20110101T070000Z
X-MICROSOFT-CDO-ALLDAYEVENT:FALSE
SUMMARY:New Year's Eve Skate The Lake Winter Festival
DESCRIPTION:Register or pay online at www.drivesmarte-c.org or 303.675.9683
X-ALT-DESC;FMTTYPE=text/html:Register or pay online at <a href="http://www.drivesmarte-c.org">www.drivesmarte-c.org</a> or 303.675.9683
LOCATION:Evergreen Lake House
UID:e.692.816
SEQUENCE:3
DTSTAMP:20260424T212719Z
URL:https://business.goconifer.com/events/details/new-year-s-eve-skate-the-lake-winter-festival-12-31-2010-816
END:VEVENT

END:VCALENDAR
