BEGIN:VCALENDAR
VERSION:2.0
PRODID:-//ChamberMaster//Event Calendar 2.0//EN
METHOD:PUBLISH
X-PUBLISHED-TTL:P3D
REFRESH-INTERVAL:P3D
CALSCALE:GREGORIAN
BEGIN:VEVENT
DTSTART;VALUE=DATE:20101231
DTEND;VALUE=DATE:20110102
TRANSP:TRANSPARENT
X-MICROSOFT-CDO-ALLDAYEVENT:TRUE
SUMMARY:New Year's Eve Party
DESCRIPTION:First Annual New Year's Eve Celebration!\n\nJoin us for steak\, seafood\, fine food\, drinks and champagne!\n\nEnjoy live music by the Catfish Kray Blues Band!
X-ALT-DESC;FMTTYPE=text/html:<span style="font-size: 16px">First Annual New Year&#39\;s Eve Celebration!</span><br />\nJoin us for steak\, seafood\, fine food\, drinks and champagne!<br />\nEnjoy live music by the Catfish Kray Blues Band!
LOCATION:Route 285 Sports Bar & Grill 11873 Route 285 (at Springs Road) Conifer\, CO 80433
UID:e.692.831
SEQUENCE:3
DTSTAMP:20260424T225920Z
URL:https://business.goconifer.com/events/details/new-year-s-eve-party-12-31-2010-831
END:VEVENT

END:VCALENDAR
