BEGIN:VCALENDAR
VERSION:2.0
PRODID:-//ChamberMaster//Event Calendar 2.0//EN
METHOD:PUBLISH
X-PUBLISHED-TTL:P3D
REFRESH-INTERVAL:P3D
CALSCALE:GREGORIAN
BEGIN:VEVENT
DTSTART:20101231T230000Z
DTEND:20110101T070000Z
X-MICROSOFT-CDO-ALLDAYEVENT:FALSE
SUMMARY:New Year's Eve Celebration at Up The Mountain Steakhouse
DESCRIPTION:Come and enjoy a night of food\, drink\, music and celebration!
X-ALT-DESC;FMTTYPE=text/html:Come and enjoy a night of food\, drink\, music and celebration!<br />\n
LOCATION:Up the Mountain Steakhouse 27175 Main Street Conifer\, CO 80433
UID:e.692.829
SEQUENCE:3
DTSTAMP:20260424T212539Z
URL:https://business.goconifer.com/events/details/new-year-s-eve-celebration-at-up-the-mountain-steakhouse-12-31-2010-829
END:VEVENT

END:VCALENDAR
