BEGIN:VCALENDAR
VERSION:2.0
PRODID:-//ChamberMaster//Event Calendar 2.0//EN
METHOD:PUBLISH
X-PUBLISHED-TTL:P3D
REFRESH-INTERVAL:P3D
CALSCALE:GREGORIAN
BEGIN:VEVENT
DTSTART:20141108T170000Z
DTEND:20141109T000000Z
X-MICROSOFT-CDO-ALLDAYEVENT:FALSE
SUMMARY:Neighborhood Toy Store Day
DESCRIPTION:We're celebrating Neighborhood Toy Store Day by pulling out lots of LEGO minifigure parts and accessories.\n\nStop in and put together a LEGO minifigure of your own design to take home!
X-ALT-DESC;FMTTYPE=text/html:<p>We&#39\;re celebrating Neighborhood Toy Store Day by pulling out lots of LEGO minifigure parts and accessories.</p>\n\n<p>Stop in and put together a LEGO minifigure of your own design to take home!</p>\n
LOCATION:Blue Spruce Toys
UID:e.692.5407
SEQUENCE:3
DTSTAMP:20260423T044556Z
URL:https://business.goconifer.com/events/details/neighborhood-toy-store-day-11-08-2014-5407
END:VEVENT

END:VCALENDAR
