BEGIN:VCALENDAR
VERSION:2.0
PRODID:-//ChamberMaster//Event Calendar 2.0//EN
METHOD:PUBLISH
X-PUBLISHED-TTL:P3D
REFRESH-INTERVAL:P3D
CALSCALE:GREGORIAN
BEGIN:VEVENT
DTSTART:20250531T160000Z
DTEND:20250531T180000Z
X-MICROSOFT-CDO-ALLDAYEVENT:FALSE
SUMMARY:Native Plant Sale
DESCRIPTION:Evergreen Audubon's 5th annual Native Plant Sale promotes the use of native plants in gardens and green spaces in Evergreen and surrounding communities. Native plants are important to pollinators\, birds\, and local wildlife\, and they require less water and little to no fertilizer. Not only that\, some of them are deer and elk resistant. Give nature a helping hand and plant a native garden this spring!\n\nPlants sell quickly so please arrive at the start of the event (no early shopping). Please bring your own box for carrying your plants.\n\nProceeds benefit Evergreen Nature Center.
X-ALT-DESC;FMTTYPE=text/html:<p>Evergreen Audubon&rsquo\;s 5th annual Native Plant Sale promotes the use of native plants in gardens and green spaces in Evergreen and surrounding communities. Native plants are important to pollinators\, birds\, and local wildlife\, and they require less water and little to no fertilizer. Not only that\, some of them are deer and elk resistant. Give nature a helping hand and plant a native garden this spring!</p>\n\n<p>Plants sell quickly so please arrive at the start of the event (no early shopping). Please bring your own box for carrying your plants.</p>\n\n<p>Proceeds benefit Evergreen Nature Center.</p>\n
LOCATION:Evergreen Nature Center 27640 CO-74\, Evergreen\, Colorado\, 80439
UID:e.692.46833
SEQUENCE:3
DTSTAMP:20260425T231903Z
URL:https://business.goconifer.com/events/details/native-plant-sale-46833
END:VEVENT

END:VCALENDAR
