BEGIN:VCALENDAR
VERSION:2.0
PRODID:-//ChamberMaster//Event Calendar 2.0//EN
METHOD:PUBLISH
X-PUBLISHED-TTL:P3D
REFRESH-INTERVAL:P3D
CALSCALE:GREGORIAN
BEGIN:VEVENT
DTSTART:20120503T163000Z
DTEND:20120503T213000Z
X-MICROSOFT-CDO-ALLDAYEVENT:FALSE
SUMMARY:National Day of Prayer 2012 Prayer Cavalcade
DESCRIPTION:join the NDOP C-470 Prayer Cavalcade\n\n\n\nCatch-A-RIDE\n\n\n\nBus loads at 10:00 a.m. and departs at 10:30 a.m.  leaving Morrison drivng the C470 loop and dropping of near the steps of the Capitol and Civic Center Park for NDOP 2012 activities and then return ride back to exit #259.
X-ALT-DESC;FMTTYPE=text/html:join the NDOP C-470 Prayer Cavalcade<br />\n<br />\nCatch-A-RIDE<br />\n<br />\nBus loads at 10:00 a.m. and departs at 10:30 a.m. &nbsp\;leaving Morrison drivng the C470 loop and dropping of near the steps of the Capitol and Civic Center Park for NDOP 2012 activities and then return ride back to exit #259.<br />\n<br />\n
LOCATION:Morrison Exit & I-70 to C470 to downtown Denver and return to Exit 259
UID:e.692.1252
SEQUENCE:3
DTSTAMP:20260424T231556Z
URL:https://business.goconifer.com/events/details/national-day-of-prayer-2012-prayer-cavalcade-05-03-2012-1252
END:VEVENT

END:VCALENDAR
