BEGIN:VCALENDAR
VERSION:2.0
PRODID:-//ChamberMaster//Event Calendar 2.0//EN
METHOD:PUBLISH
X-PUBLISHED-TTL:P3D
REFRESH-INTERVAL:P3D
CALSCALE:GREGORIAN
BEGIN:VEVENT
DTSTART:20160514T010000Z
DTEND:20160514T030000Z
X-MICROSOFT-CDO-ALLDAYEVENT:FALSE
SUMMARY:Music\, Mantra & Movement w/ Becky Myers\, Richard Ball & Ana Medina
DESCRIPTION:If you do the same things over and over\, you are going to feel the same. If you are ready to feel different\, come play with us.\n\n \n\nStart by learning and reciting a mantra (an ancient Sanskrit poem)\, and ancient yogic remedy for the blues.\n\n \n\nThen listen to the pulsating\, healing sounds of 40\,000+ years of ancestral instruments and traditions that go back to the roots of humanity! \n\n \n\nMove your body\, raise your voice in whatever way feels best to you! \n\n \n\nNo Rules\, no scripts\, no choreography\, let loose and bust a move! Party the way yogis and shams do.\n\n \n\nPerfect for older and newer children (all ages welcome). \n\n \n\nThis is movement and play.\n\n\n\nRestore balance to your body and soul.\n\n \n\nWhen: Friday\, May 13\, 2016\, 7-9 pm\n\n \n\nSuggested contribution: $15 per person\n\n \n\nRegister: Online -OR- Via Phone (303) 816-0429 or Email info@taspens.com
X-ALT-DESC;FMTTYPE=text/html:<div><span style="color:#000000">If you do the same things over and over\, you are going to feel the same. If you are ready to feel different\, come play with us.</span></div>\n\n<div>&nbsp\;</div>\n\n<div><span style="color:#000000">Start by learning and reciting a mantra (an ancient Sanskrit poem)\, and ancient yogic remedy for the blues.</span></div>\n\n<div>&nbsp\;</div>\n\n<div><span style="color:#000000">Then listen to the pulsating\, healing sounds of 40\,000+ years of ancestral instruments and traditions that go back to the roots of humanity! </span></div>\n\n<div>&nbsp\;</div>\n\n<div><span style="color:#000000">Move your body\, raise your voice in whatever way feels best to you! </span></div>\n\n<div>&nbsp\;</div>\n\n<div><span style="color:#000000">No Rules\, no scripts\, no choreography\, let loose and bust a move! Party the way yogis and shams do.</span></div>\n\n<div>&nbsp\;</div>\n\n<div><span style="color:#000000">Perfect for older and newer children (all ages welcome). </span></div>\n\n<div>&nbsp\;</div>\n\n<div><span style="color:#000000">This is movement and play.</span></div>\n\n<div><br />\n<span style="color:#000000">Restore balance to your body and soul.</span></div>\n\n<div>&nbsp\;</div>\n\n<div><span style="color:#008080"><strong>When: </strong></span>Friday\, May 13\, 2016\, 7-9 pm</div>\n\n<div>&nbsp\;</div>\n\n<div><span style="color:#008080"><strong>Suggested contribution:</strong> </span>$15 per person</div>\n\n<div>&nbsp\;</div>\n\n<div><span style="color:#008080"><strong>Register:</strong></span> <a href="https://taspens.com/pages/workshops-special-events">Online</a> -OR- Via Phone (303) 816-0429 or Email <a href="mailto:info@taspens.com" target="_blank">info@taspens.com</a></div>\n
LOCATION:Taspen's Organics & Holistic Wellness Center\; 12424 Big Timber Drive\, Conifer\, CO 80433
UID:e.692.17218
SEQUENCE:3
DTSTAMP:20260421T223824Z
URL:https://business.goconifer.com/events/details/music-mantra-movement-w-becky-myers-richard-ball-ana-medina-05-13-2016-17218
END:VEVENT

END:VCALENDAR
