BEGIN:VCALENDAR
VERSION:2.0
PRODID:-//ChamberMaster//Event Calendar 2.0//EN
METHOD:PUBLISH
X-PUBLISHED-TTL:P3D
REFRESH-INTERVAL:P3D
CALSCALE:GREGORIAN
BEGIN:VEVENT
DTSTART:20130123T000000Z
DTEND:20130123T023000Z
X-MICROSOFT-CDO-ALLDAYEVENT:FALSE
SUMMARY:Multiple Home-Based Businesses Mixer
DESCRIPTION:Join us for the Fourth Home-Based Business Mixer!\n\nPresented by Diana Paty of Accounting by the Numbers\n\n(formerly known as Bookkeeping by the Numbers)\n\n\n\nContact Dawn Smith to reserve a booth ($20 members/$35 nonmembers)
X-ALT-DESC;FMTTYPE=text/html:Join us for the Fourth Home-Based Business Mixer!<br />\nPresented by Diana Paty of Accounting by the Numbers<br />\n(formerly known as Bookkeeping by the Numbers)<br />\n<br />\nContact Dawn Smith to reserve a booth ($20 members/$35 nonmembers)
LOCATION:Conifer Community Church 9998 S. Havecost Rd. Conifer (by Aspen Park ACE Hardware)
UID:e.692.1389
SEQUENCE:3
DTSTAMP:20260424T114350Z
URL:https://business.goconifer.com/events/details/multiple-home-based-businesses-mixer-01-22-2013-1389
END:VEVENT

END:VCALENDAR
