BEGIN:VCALENDAR
VERSION:2.0
PRODID:-//ChamberMaster//Event Calendar 2.0//EN
METHOD:PUBLISH
X-PUBLISHED-TTL:P3D
REFRESH-INTERVAL:P3D
CALSCALE:GREGORIAN
BEGIN:VEVENT
DTSTART:20140222T180000Z
DTEND:20140222T200000Z
X-MICROSOFT-CDO-ALLDAYEVENT:FALSE
SUMMARY:Mt. Lugo Luge Snow Tubing Competition
DESCRIPTION:2nd Annual Snow Tubing Competition. Teams of 4 race down the Meyer Ranch Sledding Hill and compete for Best of Time\, Best Costume and Best Aerial Dismount
X-ALT-DESC;FMTTYPE=text/html:2nd Annual Snow Tubing Competition. Teams of 4 race down the Meyer Ranch Sledding Hill and compete for Best of Time\, Best Costume and Best Aerial Dismount
LOCATION:Meyer Ranch Sledding Hill
UID:e.692.1776
SEQUENCE:3
DTSTAMP:20260423T172250Z
URL:https://business.goconifer.com/events/details/mt-lugo-luge-snow-tubing-competition-02-22-2014-1776
END:VEVENT

END:VCALENDAR
