BEGIN:VCALENDAR
VERSION:2.0
PRODID:-//ChamberMaster//Event Calendar 2.0//EN
METHOD:PUBLISH
X-PUBLISHED-TTL:P3D
REFRESH-INTERVAL:P3D
CALSCALE:GREGORIAN
BEGIN:VEVENT
DTSTART:20100618T230000Z
DTEND:20100619T010000Z
X-MICROSOFT-CDO-ALLDAYEVENT:FALSE
SUMMARY:Mountain Resource Center's Mountain Moon Shining from Mule Trains to Motorcycles
DESCRIPTION:Mountain Moon Shining ? From Mule Trains to Motorcycles a celebration of Conifer?s Sesquicentennial (150th) Celebration of its founding in 1860!  We'll be serving up brats and beverages for This is the MRC?S Ladies Guild Annual Fundraiser to support basic and essential health\, education and human services for residents in western Jefferson and northern Park Counties.  100% of the proceeds from ticket sales will be donated to the Center.  \n\n\n\nThis year?s honorees of the Bob Over Community Service Award John Michael Keyes and Ellen Stoddard Keyes will be recognized during the event.
X-ALT-DESC;FMTTYPE=text/html:Mountain Moon Shining ? From Mule Trains to Motorcycles a celebration of Conifer?s Sesquicentennial (150th) Celebration of its founding in 1860!  We'll be serving up brats and beverages for This is the MRC?S Ladies Guild Annual Fundraiser to support basic and essential health\, education and human services for residents in western Jefferson and northern Park Counties.  100% of the proceeds from ticket sales will be donated to the Center.  \n<br>\n<br>This year?s honorees of the Bob Over Community Service Award John Michael Keyes and Ellen Stoddard Keyes will be recognized during the event.\n<br>
LOCATION:Mountain Resource Center 11030 Kitty Drive\, Conifer\, CO 80433
UID:e.692.394
SEQUENCE:3
DTSTAMP:20260424T131103Z
URL:https://business.goconifer.com/events/details/mountain-resource-center-s-mountain-moon-shining-from-mule-trains-to-motorcycles-06-18-2010-394
END:VEVENT

END:VCALENDAR
