BEGIN:VCALENDAR
VERSION:2.0
PRODID:-//ChamberMaster//Event Calendar 2.0//EN
METHOD:PUBLISH
X-PUBLISHED-TTL:P3D
REFRESH-INTERVAL:P3D
CALSCALE:GREGORIAN
BEGIN:VEVENT
DTSTART:20160507T190000Z
DTEND:20160507T230000Z
X-MICROSOFT-CDO-ALLDAYEVENT:FALSE
SUMMARY:Mountain Resource Center's Mountain Derby Daze
DESCRIPTION:1st Annual Mountain Derby Days fundraising event celebrating the tradition of the Kentucky Derby. We will serve traditional Southern Derby foods and mint juleps\, beer & wine will be available with one drink ticket provided\; cash bar available. Come ready to play and compete in our horse races\, best hat and best dressed contests with amazing prizes\, as well as a great Silent auction. Live Kentucky Derby race will be aired for the finale. Tickets can be purchased at Mountain Resource Center Monday - Thursday from 9:00 - 5:00pm or online at www.mrcco.org. We will have decorated hats for women available for $10. Sponsorships are also available.
X-ALT-DESC;FMTTYPE=text/html:1st Annual Mountain Derby Days fundraising event celebrating the tradition of the Kentucky Derby. We will serve traditional Southern Derby foods and mint juleps\, beer &amp\; wine will be available with one drink ticket provided\; cash bar available. Come ready to play and compete in our horse races\, best hat and best dressed contests with amazing prizes\, as well as a great Silent auction. Live Kentucky Derby race will be aired for the finale. Tickets can be purchased at Mountain Resource Center Monday - Thursday from 9:00 - 5:00pm or online at www.mrcco.org. We will have decorated hats for women available for $10. Sponsorships are also available.
LOCATION:Evergreen Elks Lodge\, 27972 Iris Dr\, Evergreen
UID:e.692.17309
SEQUENCE:3
DTSTAMP:20260422T000427Z
URL:https://business.goconifer.com/events/details/mountain-resource-center-s-mountain-derby-daze-05-07-2016-17309
END:VEVENT

END:VCALENDAR
