BEGIN:VCALENDAR
VERSION:2.0
PRODID:-//ChamberMaster//Event Calendar 2.0//EN
METHOD:PUBLISH
X-PUBLISHED-TTL:P3D
REFRESH-INTERVAL:P3D
CALSCALE:GREGORIAN
BEGIN:VEVENT
DTSTART;VALUE=DATE:20120428
DTEND;VALUE=DATE:20120429
TRANSP:TRANSPARENT
X-MICROSOFT-CDO-ALLDAYEVENT:TRUE
SUMMARY:Mountain Resource Center Health Jam
DESCRIPTION:Jump\, Play & Learn Together!  Mountain Resource Center and Evergreen/Conifer Pediatrics have teamed up to offer a morning of fun\, healthy & informative activities.  Bring your family and enjoy indoor activities for children and youth ages 0-18 years old.
X-ALT-DESC;FMTTYPE=text/html:Jump\, Play &amp\; Learn Together!&nbsp\; Mountain Resource Center and Evergreen/Conifer Pediatrics have teamed up to offer a morning of fun\, healthy &amp\; informative activities.&nbsp\; Bring your family and enjoy indoor activities for children and youth ages 0-18 years old.&nbsp\; 
LOCATION:Mountain Resource Center 11030 Kitty Drive Conifer\, CO 80433
UID:e.692.1256
SEQUENCE:3
DTSTAMP:20260425T003641Z
URL:https://business.goconifer.com/events/details/mountain-resource-center-health-jam-04-28-2012-1256
END:VEVENT

END:VCALENDAR
