BEGIN:VCALENDAR
VERSION:2.0
PRODID:-//ChamberMaster//Event Calendar 2.0//EN
METHOD:PUBLISH
X-PUBLISHED-TTL:P3D
REFRESH-INTERVAL:P3D
CALSCALE:GREGORIAN
BEGIN:VEVENT
DTSTART:20160718T121500Z
DTEND:20160718T190000Z
X-MICROSOFT-CDO-ALLDAYEVENT:FALSE
SUMMARY:Mountain Foothills Rotary Special Needs Golf Tournament
DESCRIPTION:Mountain Foothills Rotary Club and Evergreen Park & Recreation District present the Andy Smith Sr. Memorial Special Needs Golf Tournament to benefit the EPRD Special Needs Program\, Evergreen Christian Outreach and other Rotary charitable causes. Golf\, silent auction\, door prizes.
X-ALT-DESC;FMTTYPE=text/html:Mountain Foothills Rotary Club and Evergreen Park &amp\; Recreation District present the Andy Smith Sr. Memorial Special Needs Golf Tournament to benefit the EPRD Special Needs Program\, Evergreen Christian Outreach and other Rotary charitable causes. Golf\, silent auction\, door prizes.
LOCATION:Hiwan Golf Club\, Evergreen
UID:e.692.18889
SEQUENCE:3
DTSTAMP:20260421T193750Z
URL:https://business.goconifer.com/events/details/mountain-foothills-rotary-special-needs-golf-tournament-07-18-2016-18889
END:VEVENT

END:VCALENDAR
