BEGIN:VCALENDAR
VERSION:2.0
PRODID:-//ChamberMaster//Event Calendar 2.0//EN
METHOD:PUBLISH
X-PUBLISHED-TTL:P3D
REFRESH-INTERVAL:P3D
CALSCALE:GREGORIAN
BEGIN:VEVENT
DTSTART:20260523T150000Z
DTEND:20260524T230000Z
X-MICROSOFT-CDO-ALLDAYEVENT:FALSE
SUMMARY:Mountain Club Memorial Weekend Flea Market
DESCRIPTION:Time for our annual Memorial Day Weekend Flea Market\, to be held on Saturday May 23\, and Sunday May 24 from 9AM to 5PM\, each day.\n\nAll proceeds from the Flea Market will support the Mountain Club's mission to maintain a safe and welcoming meeting space for 12-Step recovery groups.\n\nThe Mountain Club has been serving our mountain community for 35 years and our flea markets\, on both Memorial Day and Labor Day weekends\, are the backbone of our fundraising activities to keep the lights on for all those who walk through our doors. Your support means a great deal to so many in our mountain community who have been given relief from their suffering. And we welcome your support by donating some of your "precious treasures" for sale\, or by coming out to the flea market to find some great bargains for yourself.\n\nPlease leave your donations in front of the shed on the right side of the Club beginning Sunday\, May 10th . No mattresses\, electronics\, tires\, paint or any kind of chemicals\, please!\n\nThe Mountain Club is located at 12795 US Hwy 285 in Conifer. Please contact Sandy F for more information at 720-326-8037.
X-ALT-DESC;FMTTYPE=text/html:Time for our annual Memorial Day Weekend Flea Market\, to be held on Saturday May 23\, and Sunday May 24 from 9AM to 5PM\, each day.<br />\nAll proceeds from the Flea Market will support the Mountain Club&rsquo\;s mission to maintain a safe and welcoming meeting space for 12-Step recovery groups.<br />\nThe Mountain Club has been serving our mountain community for 35 years and our flea&nbsp\;markets\, on both Memorial Day and Labor Day weekends\, are the backbone of our fundraising&nbsp\;activities to keep the lights on for all those who walk through our doors. Your support means a&nbsp\;great deal to so many in our mountain community who have been given relief from their&nbsp\;suffering.&nbsp\;And we welcome your support by donating some of your &ldquo\;precious treasures&rdquo\; for sale\, or by&nbsp\;coming out to the flea market to find some great bargains for yourself.<br />\nPlease leave your donations in front of the shed on the right side of the Club beginning Sunday\,&nbsp\;May 10th . No mattresses\, electronics\, tires\, paint or any kind of chemicals\, please!<br />\nThe Mountain Club is located at 12795 US Hwy 285 in Conifer.&nbsp\;Please contact Sandy F for more information at 720-326-8037.
LOCATION:12795 US Hwy 285\, Conifer\, CO 80433
UID:e.692.48579
SEQUENCE:3
DTSTAMP:20260421T095732Z
URL:https://business.goconifer.com/events/details/mountain-club-memorial-weekend-flea-market-48579
END:VEVENT

END:VCALENDAR
