BEGIN:VCALENDAR
VERSION:2.0
PRODID:-//ChamberMaster//Event Calendar 2.0//EN
METHOD:PUBLISH
X-PUBLISHED-TTL:P3D
REFRESH-INTERVAL:P3D
CALSCALE:GREGORIAN
BEGIN:VEVENT
DTSTART:20140919T173000Z
DTEND:20140919T193000Z
X-MICROSOFT-CDO-ALLDAYEVENT:FALSE
SUMMARY:Mountain Area Women in Business Luncheon
DESCRIPTION:All Mountain Area Business Women are invited to attend this signature event focusing on empowerment\, networking\, and resource building.
X-ALT-DESC;FMTTYPE=text/html:<span style="font-size:14px\;"><span style="font-family:arial\;"><span style="line-height: 27.0666656494141px\; text-align: center\; background-color: rgb(255\, 255\, 255)\;">All Mountain Area Business Women are invited to attend this signature event focusing on empowerment\, networking\, and resource building.</span></span></span>
LOCATION:Mt Vernon Country Club 24933 Country Club Lane Golden\, CO 80401
UID:e.692.3362
SEQUENCE:3
DTSTAMP:20260423T074249Z
URL:https://business.goconifer.com/events/details/mountain-area-women-in-business-luncheon-09-19-2014-3362
END:VEVENT

END:VCALENDAR
