BEGIN:VCALENDAR
VERSION:2.0
PRODID:-//ChamberMaster//Event Calendar 2.0//EN
METHOD:PUBLISH
X-PUBLISHED-TTL:P3D
REFRESH-INTERVAL:P3D
CALSCALE:GREGORIAN
BEGIN:VEVENT
DTSTART:20120314T000000Z
DTEND:20120314T020000Z
X-MICROSOFT-CDO-ALLDAYEVENT:FALSE
SUMMARY:Mountain Area Social Club Happy Hour
DESCRIPTION:Join the Mountain Area Social Club for a casual happy hour at Brooks Place Tavern! This is a casual meet and greet type event\, so feel free to stop in briefly to meet a few new people or stay the whole time.\n\n\n\n\n	The Mountain Area Social Club is fun and interesting group of 20-40s professionals (and the young at heart) located in the Conifer-Evergreen-Morrison-Golden area. Everyone is welcome to join our meetups in a fun and casual setting to get to know each other and make new friends and connections. I'm starting this group because my wife and I recently moved to the area and we want to get to know more interesting people like us who chose life in the mountains. Expect events to include a monthly happy hour\, occasional Saturday coffee meetups\, outdoor activities\, and more.\n\n	Events vary between Evergreen\, Conifer\, and surrounding areas\, so if you don't see anything nearby just suggest a meetup (on our website http://www.MountainAreaSocialClub.com)!
X-ALT-DESC;FMTTYPE=text/html:<span style="color: rgb(39\, 39\, 39)\; font-family: verdana\, geneva\, sans-serif\; font-size: 14px\; line-height: 18px\; ">Join the Mountain Area Social Club for a casual happy hour at Brooks Place Tavern! This is a casual meet and greet type event\, so feel free to stop in briefly to meet a few new people or stay the whole time.</span><br />\n<br />\n<p style="margin-top: 0px\; margin-right: 0px\; margin-left: 0px\; padding-top: 0px\; padding-right: 0px\; padding-bottom: 0px\; padding-left: 0px\; margin-bottom: 0.7em\; font-family: verdana\, arial\, sans-serif\; color: rgb(85\, 85\, 85)\; line-height: 16px\; ">\n	<strong style="display: inline\; font-family: inherit\; font-weight: bold\; ">The Mountain Area Social Club is fun and interesting group of 20-40s professionals (and the young at heart) located in the Conifer-Evergreen-Morrison-Golden area.</strong>&nbsp\;Everyone is welcome to join our meetups in a fun and casual setting to get to know each other and make new friends and connections. I&#39\;m starting this group because my wife and I recently moved to the area and we want to get to know more interesting people like us who chose life in the mountains. Expect events to include a monthly happy hour\, occasional Saturday coffee meetups\, outdoor activities\, and more.</p>\n<p style="margin-top: 0px\; margin-right: 0px\; margin-left: 0px\; padding-top: 0px\; padding-right: 0px\; padding-bottom: 0px\; padding-left: 0px\; margin-bottom: 0.7em\; font-family: verdana\, arial\, sans-serif\; color: rgb(85\, 85\, 85)\; line-height: 16px\; ">\n	Events vary between Evergreen\, Conifer\, and surrounding areas\, so if you don&#39\;t see anything nearby just suggest a meetup (on our website http://www.MountainAreaSocialClub.com)!</p>\n
LOCATION:Brooks Place Tavern 27175 Main Street\, Aspen Park\, CO
UID:e.692.1246
SEQUENCE:3
DTSTAMP:20260425T015519Z
URL:https://business.goconifer.com/events/details/mountain-area-social-club-happy-hour-03-13-2012-1246
END:VEVENT

END:VCALENDAR
