BEGIN:VCALENDAR
VERSION:2.0
PRODID:-//ChamberMaster//Event Calendar 2.0//EN
METHOD:PUBLISH
X-PUBLISHED-TTL:P3D
REFRESH-INTERVAL:P3D
CALSCALE:GREGORIAN
BEGIN:VEVENT
DTSTART:20140607T000000Z
DTEND:20140607T140000Z
X-MICROSOFT-CDO-ALLDAYEVENT:FALSE
SUMMARY:Mountain Area Relay For Life
DESCRIPTION:Join us as we celebrate survivors of all types of cancer\, remember loved ones lost and fight back against cancer at the 2014 Mountain Area Relay For Life!
X-ALT-DESC;FMTTYPE=text/html:Join us as we celebrate survivors of all types of cancer\, remember loved ones lost and fight back against cancer at the 2014 Mountain Area Relay For Life!
LOCATION:Evergreen High School- Track & Field
UID:e.692.1579
SEQUENCE:3
DTSTAMP:20260423T120535Z
URL:https://business.goconifer.com/events/details/mountain-area-relay-for-life-06-06-2014-1579
END:VEVENT

END:VCALENDAR
