BEGIN:VCALENDAR
VERSION:2.0
PRODID:-//ChamberMaster//Event Calendar 2.0//EN
METHOD:PUBLISH
X-PUBLISHED-TTL:P3D
REFRESH-INTERVAL:P3D
CALSCALE:GREGORIAN
BEGIN:VEVENT
DTSTART:20120710T210000Z
DTEND:20120710T223000Z
X-MICROSOFT-CDO-ALLDAYEVENT:FALSE
SUMMARY:Mountain Area Non-Profit Meeting
DESCRIPTION:Join mountain area non-profits to network and learn from County Comissioner Don Rosier.
X-ALT-DESC;FMTTYPE=text/html:<span style="font-size: 16px">Join mountain area non-profits to network and learn from County Comissioner Don Rosier.</span>
LOCATION:Stagecoach Sports Grill. 30790 Stagecoach Blvd. Evergreen
UID:e.692.1317
SEQUENCE:3
DTSTAMP:20260424T201916Z
URL:https://business.goconifer.com/events/details/mountain-area-non-profit-meeting-07-10-2012-1317
END:VEVENT

END:VCALENDAR
