BEGIN:VCALENDAR
VERSION:2.0
PRODID:-//ChamberMaster//Event Calendar 2.0//EN
METHOD:PUBLISH
X-PUBLISHED-TTL:P3D
REFRESH-INTERVAL:P3D
CALSCALE:GREGORIAN
BEGIN:VEVENT
DTSTART:20101203T010000Z
DTEND:20101203T040000Z
X-MICROSOFT-CDO-ALLDAYEVENT:FALSE
SUMMARY:Mountain Area Land Trust Presents: John Fielder
DESCRIPTION:On Thursday\, December 2 at Buchanan Recreation Center\, Mountain Area Land Trust presents John Fielder.  John Fielder is a nationally renowned nature photographer\, publisher\, teacher\, and preservationist.  Fielder has worked tirelessly to promote the protection of Colorado's open space and wildlands.  His photography has influenced people and legislation earning him recognition including the Sierra Club's Ansel Adams Award\, the University of Denver?s Daniel L. Ritchie Award\, and the Distinguished Service Award from the University of Colorado.  John?s Ranches of Colorado presentation will consist of stories about his photographing 50 multi-generational ranches and his experiences working with these remarkable people.  Please join us from 6-6:45 p.m. for a VIP reception with John.  Tickets are $30 per person which includes appetizers and beverages.  Doors open to the public at 6:45 p.m. and the presentation will begin at 7:00 p.m.  For the presentation only\, tickets are $15 per person.  Many of John?s books and calendars will be available for sale and there will be an opportunity for John sign them. Please contact Mountain Area Land Trust at (303)679-0950 or Michaela@savetheland.org to reserve your tickets today!
X-ALT-DESC;FMTTYPE=text/html:On Thursday\, December 2 at Buchanan Recreation Center\, Mountain Area Land Trust presents John Fielder.  John Fielder is a nationally renowned nature photographer\, publisher\, teacher\, and preservationist.  Fielder has worked tirelessly to promote the protection of Colorado's open space and wildlands.  His photography has influenced people and legislation earning him recognition including the Sierra Club's Ansel Adams Award\, the University of Denver?s Daniel L. Ritchie Award\, and the Distinguished Service Award from the University of Colorado.  John?s Ranches of Colorado presentation will consist of stories about his photographing 50 multi-generational ranches and his experiences working with these remarkable people.  Please join us from 6-6:45 p.m. for a VIP reception with John.  Tickets are $30 per person which includes appetizers and beverages.  Doors open to the public at 6:45 p.m. and the presentation will begin at 7:00 p.m.  For the presentation only\, tickets are $15 per person.  Many of John?s books and calendars will be available for sale and there will be an opportunity for John sign them. Please contact Mountain Area Land Trust at (303)679-0950 or Michaela@savetheland.org to reserve your tickets today! 
LOCATION:Buchanan Recreation Center\, 32003 Ellingwood Trail\, Evergreen\, CO 80439
UID:e.692.814
SEQUENCE:3
DTSTAMP:20260424T212254Z
URL:https://business.goconifer.com/events/details/mountain-area-land-trust-presents-john-fielder-12-02-2010-814
END:VEVENT

END:VCALENDAR
