BEGIN:VCALENDAR
VERSION:2.0
PRODID:-//ChamberMaster//Event Calendar 2.0//EN
METHOD:PUBLISH
X-PUBLISHED-TTL:P3D
REFRESH-INTERVAL:P3D
CALSCALE:GREGORIAN
BEGIN:VEVENT
DTSTART:20101104T234500Z
DTEND:20101105T023000Z
X-MICROSOFT-CDO-ALLDAYEVENT:FALSE
SUMMARY:Mountain Area Land Trust Presents: Jake Norton
DESCRIPTION:Mountain Area Land Trust presents\, Jake Norton on Thursday\, November 4\, at Center Stage. Jake has summitted Mount Rainer 89 times\, Mount Everest 3 times and helped to discover George Mallory's remains in 1999. Beyond climbing\, Jake has been successful with his career as a professional photographer and motivational speaker. Jake will be sharing stories and breathtaking photographs from his adventures around the world. Please contact Mountain Area Land Trust at (303)679-0950 or Michaela@savetheland.org to reserve your tickets today!
X-ALT-DESC;FMTTYPE=text/html:Mountain Area Land Trust presents\, Jake Norton on Thursday\, November 4\, at Center Stage. Jake has summitted Mount Rainer 89 times\, Mount Everest 3 times and helped to discover George Mallory&#39\;s remains in 1999. Beyond climbing\, Jake has been successful with his career as a professional photographer and motivational speaker. Jake will be sharing stories and breathtaking photographs from his adventures around the world. Please contact Mountain Area Land Trust at (303)679-0950 or Michaela@savetheland.org to reserve your tickets today! 
LOCATION:Center Stage 27608 Fireweed Drive\, Evergeen CO 80439
UID:e.692.800
SEQUENCE:3
DTSTAMP:20260424T195326Z
URL:https://business.goconifer.com/events/details/mountain-area-land-trust-presents-jake-norton-11-04-2010-800
END:VEVENT

END:VCALENDAR
