BEGIN:VCALENDAR
VERSION:2.0
PRODID:-//ChamberMaster//Event Calendar 2.0//EN
METHOD:PUBLISH
X-PUBLISHED-TTL:P3D
REFRESH-INTERVAL:P3D
CALSCALE:GREGORIAN
BEGIN:VEVENT
DTSTART:20140426T150000Z
DTEND:20140426T230000Z
X-MICROSOFT-CDO-ALLDAYEVENT:FALSE
SUMMARY:Mountain Area Home and Garden Show
DESCRIPTION:The Mountain Area Home and Garden Show is an event created by the community for the community\, where people from the Denver foothills can come and learn about all the quality businesses that service our mountain region.\n\n\n\nThis is a volunteer run event and all the proceeds go back into the community through the Evergreen and Conifer Rotary Foundations. \n\n\n\nExhibits from Community Home Improvement Vendors\, Garden supplies\, Flowers\, along many other area businesses and services.
X-ALT-DESC;FMTTYPE=text/html:<div style="color: rgb(34\, 34\, 34)\; font-family: 'Courier New'\, courier\, monaco\, monospace\, sans-serif\; font-size: 16px\; line-height: normal\; background-color: transparent\;"><span style="font-family: Tahoma\, Geneva\, sans-serif\; line-height: 22.100000381469727px\; text-align: center\;">The Mountain Area Home and Garden Show&nbsp\;is an event created by the community for the community\, where people from the Denver foothills can come and learn about all the quality businesses that service our&nbsp\;mountain region.<br />\n<br />\nThis i</span><span style="font-family:arial\;">s</span><span style="color: rgb(34\, 34\, 34)\; font-family: Tahoma\, Geneva\, sans-serif\; font-size: 16px\; line-height: 22.100000381469727px\; text-align: center\;">&nbsp\;a volunteer run event and all the proceeds go back into the community through the Evergreen and Conifer Rotary Foundations.&nbsp\;</span><br />\n<br />\n<span style="font-family:arial\;">Exhibits from Community Home Improvement Vendors\, Garden supplies\, Flowers\, along many other area businesses and services.</span></div>\n\n<div style="color: rgb(34\, 34\, 34)\; font-family: 'Courier New'\, courier\, monaco\, monospace\, sans-serif\; font-size: 16px\; line-height: normal\; background-color: transparent\;">&nbsp\;</div>\n
LOCATION:Evergreen High School\, Buffalo Park Road\, Evergreen\, CO
UID:e.692.2918
SEQUENCE:3
DTSTAMP:20260423T155858Z
URL:https://business.goconifer.com/events/details/mountain-area-home-and-garden-show-04-26-2014-2918
END:VEVENT

END:VCALENDAR
