BEGIN:VCALENDAR
VERSION:2.0
PRODID:-//ChamberMaster//Event Calendar 2.0//EN
METHOD:PUBLISH
X-PUBLISHED-TTL:P3D
REFRESH-INTERVAL:P3D
CALSCALE:GREGORIAN
BEGIN:VEVENT
DTSTART:20141117T160000Z
DTEND:20141117T200000Z
X-MICROSOFT-CDO-ALLDAYEVENT:FALSE
SUMMARY:Mount Evans Hospice Volunteer Training
DESCRIPTION:Don't miss your opportunity to become part of the team at Mount Evans Home Health Care & Hospice! The spring session of volunteer training will be held Nov. 17\, 19 and 21 from 9 a.m. to 1 p.m. Guest speakers and staff members will provide an overview of home health and hospice\, patient care activities\, support services\, advance directives and spiritual care throughout this 14-hour training.\n\n \n\nAn integral part of the Mount Evans team\, volunteers donate thousands of hours each year to ensure the continued success of this nonprofit agency. Both short- and long-term commitments are available in a variety of areas. Administrative assistance\, fundraising\, transportation\, respite care\, bereavement support and patient companions are among the duties that volunteers regularly fulfill.\n\n \n\n*****\n\n \n\nMount Evans Home Health Care & Hospice supports our mountain community by providing compassionate and experienced care during challenging times.
X-ALT-DESC;FMTTYPE=text/html:<span style="line-height: 20.7999992370605px\; font-family: calibri\, sans-serif\;"><span style="font-size: 11pt\;">Don&rsquo\;t miss your opportunity to become part of the team at Mount Evans Home Health Care &amp\; Hospice! The spring session of volunteer training will be held&nbsp\;<span data-term="goog_1869558424" style="border-bottom-width: 1px\; border-bottom-style: dashed\; position: relative\; top: -2px\; z-index: 0\;" tabindex="0"><span style="position: relative\; top: 2px\; z-index: -1\;">Nov. 17</span></span>\, 19 and 21 from&nbsp\;<span data-term="goog_1869558425" style="border-bottom-width: 1px\; border-bottom-style: dashed\; position: relative\; top: -2px\; z-index: 0\;" tabindex="0"><span style="position: relative\; top: 2px\; z-index: -1\;">9 a.m. to 1 p.m.</span></span>&nbsp\;Guest speakers and staff members will provide an overview of home health and hospice\, patient care activities\, support services\, advance directives and spiritual care throughout this 14-hour training.</span></span><br style="line-height: 20.7999992370605px\;" />\n<span style="line-height: 20.7999992370605px\;">&nbsp\;</span><br style="line-height: 20.7999992370605px\;" />\n<span style="line-height: 20.7999992370605px\; font-family: calibri\, sans-serif\;"><span style="font-size: 11pt\;">An integral part of the Mount Evans team\, volunteers donate thousands of hours each year to ensure the continued success of this nonprofit agency. Both short- and long-term commitments are available in a variety of areas. Administrative assistance\, fundraising\, transportation\, respite care\, bereavement support and patient companions are among the duties that volunteers regularly fulfill.</span></span><br />\n&nbsp\;<br />\n<span style="font-family:calibri\,sans-serif\;"><span style="font-size:11pt\;">*****</span></span><br />\n&nbsp\;<br />\n<strong>Mount Evans Home Health Care &amp\; Hospice supports our mountain community by providing compassionate and experienced care during challenging times.</strong>
LOCATION:The training sessions will be held at the Mt. Evans offices\, at 3081 Bergen Peak Dr.\, in Evergreen. For more information about volunteer training\, call Lori Carpenter at 303-674-6400 or email LCarpenter@MountEvans.org. Reservations are recommended\, as space is limited.
UID:e.692.5009
SEQUENCE:3
DTSTAMP:20260423T044234Z
URL:https://business.goconifer.com/events/details/mount-evans-hospice-volunteer-training-11-17-2014-5009
END:VEVENT

END:VCALENDAR
