BEGIN:VCALENDAR
VERSION:2.0
PRODID:-//ChamberMaster//Event Calendar 2.0//EN
METHOD:PUBLISH
X-PUBLISHED-TTL:P3D
REFRESH-INTERVAL:P3D
CALSCALE:GREGORIAN
BEGIN:VEVENT
DTSTART:20100508T160000Z
DTEND:20100508T173000Z
X-MICROSOFT-CDO-ALLDAYEVENT:FALSE
SUMMARY:Mother's Day Cards and Crafts
DESCRIPTION:Choose from a variety of craft and card making supplies to make your mom something special. Make your Mother?s Day surprise with our unique arts and crafts material. $5 per child and parents are free. (Dads\, this one is for you!)
X-ALT-DESC;FMTTYPE=text/html:Choose from a variety of craft and card making supplies to make your mom something special. Make your Mother?s Day surprise with our unique arts and crafts material. $5 per child and parents are free. (Dads\, this one is for you!) 
LOCATION:Mountain Resource Center 11303 Kitty Dr. Conifer\, CO 80433
UID:e.692.371
SEQUENCE:3
DTSTAMP:20260424T112407Z
URL:https://business.goconifer.com/events/details/mother-s-day-cards-and-crafts-05-08-2010-371
END:VEVENT

END:VCALENDAR
