BEGIN:VCALENDAR
VERSION:2.0
PRODID:-//ChamberMaster//Event Calendar 2.0//EN
METHOD:PUBLISH
X-PUBLISHED-TTL:P3D
REFRESH-INTERVAL:P3D
CALSCALE:GREGORIAN
BEGIN:VEVENT
DTSTART:20150313T000000Z
DTEND:20150313T013000Z
X-MICROSOFT-CDO-ALLDAYEVENT:FALSE
SUMMARY:Mortgage Crash Course for 2015
DESCRIPTION:We're excited to announce a collaborative effort between Academy Mortgage and Fuel Financial : Mortgage Crash Course for 2015. Everything you need to know about homeownership and how it fits into your financial picture. We will cover renting vs. buying\, the comparison of common loan programs\, APR\,mortgage insurance and ultimately getting approved! A home is one of your largest assets in your financial picture. Jo-Ann will give great tips on how to build wealth for your retirement. Should you pay off your mortgage early? How do you prioritize saving into a retirement account\, paying off debts early\, and saving for your child's education
X-ALT-DESC;FMTTYPE=text/html:<p><span style="line-height:1.6">We&#39\;re excited to announce a collaborative effort between Academy Mortgage and Fuel Financial : Mortgage Crash Course for 2015. Everything you need to know about homeownership and how it fits into your financial picture. We will cover renting vs. buying\, the comparison of common loan programs\, APR\,mortgage insurance and ultimately getting approved! A home is one of your largest assets in your financial picture. Jo-Ann will give great tips on how to build wealth for your retirement. Should you pay off your mortgage early? How do you prioritize saving into a retirement account\, paying off debts early\, and saving for your child&#39\;s education</span></p>\n
LOCATION:1st Bank of Belmar 550 S. Wadsworth Blvd Lakewood\, CO 80226
UID:e.692.8817
SEQUENCE:3
DTSTAMP:20260422T190906Z
URL:https://business.goconifer.com/events/details/mortgage-crash-course-for-2015-03-12-2015-8817
END:VEVENT

END:VCALENDAR
